BEGIN:VCALENDAR
VERSION:2.0
PRODID:-//TXAEYC - ECPv6.15.18//NONSGML v1.0//EN
CALSCALE:GREGORIAN
METHOD:PUBLISH
X-WR-CALNAME:TXAEYC
X-ORIGINAL-URL:https://texasaeyc.org
X-WR-CALDESC:Events for TXAEYC
REFRESH-INTERVAL;VALUE=DURATION:PT1H
X-Robots-Tag:noindex
X-PUBLISHED-TTL:PT1H
BEGIN:VTIMEZONE
TZID:America/Detroit
BEGIN:DAYLIGHT
TZOFFSETFROM:-0500
TZOFFSETTO:-0400
TZNAME:EDT
DTSTART:20230312T070000
END:DAYLIGHT
BEGIN:STANDARD
TZOFFSETFROM:-0400
TZOFFSETTO:-0500
TZNAME:EST
DTSTART:20231105T060000
END:STANDARD
BEGIN:DAYLIGHT
TZOFFSETFROM:-0500
TZOFFSETTO:-0400
TZNAME:EDT
DTSTART:20240310T070000
END:DAYLIGHT
BEGIN:STANDARD
TZOFFSETFROM:-0400
TZOFFSETTO:-0500
TZNAME:EST
DTSTART:20241103T060000
END:STANDARD
BEGIN:DAYLIGHT
TZOFFSETFROM:-0500
TZOFFSETTO:-0400
TZNAME:EDT
DTSTART:20250309T070000
END:DAYLIGHT
BEGIN:STANDARD
TZOFFSETFROM:-0400
TZOFFSETTO:-0500
TZNAME:EST
DTSTART:20251102T060000
END:STANDARD
END:VTIMEZONE
BEGIN:VEVENT
DTSTART;TZID=America/Detroit:20240226T180000
DTEND;TZID=America/Detroit:20240226T190000
DTSTAMP:20260423T181349
CREATED:20240130T161710Z
LAST-MODIFIED:20240130T170002Z
UID:10000120-1708970400-1708974000@texasaeyc.org
SUMMARY:TWC CCDF Plan Stakeholder Meeting
DESCRIPTION:We are hosting a series of public meetings to gather stakeholder input on the 2025-2027 CCDF State Plan and the Texas Rising Star Four-Year Review proposed revisions. \nPlease RSVP via the following link\, https://www.surveymonkey.com/r/CCELPubMTG\, no later than 24 hours before the meeting you wish to attend. If you require accommodations\, please RSVP no later than five business days before the meeting you wish to attend. \n\n\n\nTexas Workforce Commission (TWC) is developing the Child Care and Development Fund (CCDF) State Plan for fiscal years 2025-2027. This plan describes the child care policies in Texas\, as well as strategic initiatives to improve the quality and availability of child care in Texas.\nWe need to hear from YOU! TWC is seeking input from child care providers\, parents\, employers\, and other stakeholders across Texas. Your feedback will help us better understand your needs and preferences\, and will help inform the development of policies\, initiatives\, and resources. \nPlease take a few moments to complete the survey by clicking on the following link: https://www.surveymonkey.com/r/CCDFStakeholder \nStakeholder Meetings \nWe are also hosting a series of public meetings to gather stakeholder input on the 2025-2027 CCDF State Plan and the Texas Rising Star Four-Year Review proposed revisions. \nPlease RSVP via the following link\, https://www.surveymonkey.com/r/CCELPubMTG\, no later than 24 hours before the meeting you wish to attend. If you require accommodations\, please RSVP no later than five business days before the meeting you wish to attend. \nYou can also use this RSVP to let us know about any specific questions you have on the CCDF State Plan or the Texas Rising Star Four-Year Review. \nAll meetings are hosted by local Workforce Solutions partners\, and are scheduled for 6pm: \n\n\n\nCity\nDate\nLocation\n\n\nAbilene\nThursday\, February 8th\nCommunity Foundation of Abilene; 850 N. 1st Street\, Abilene\, TX 79601\n\n\nRound Rock\nTuesday\, February 13th\nWorkforce Solutions of Williamson County\, 575 Round Rock West Drive\, Building H\, Suite 240\, Round Rock\, TX 78681\n\n\nHouston\nWednesday\, February 21st\nWorkforce Solutions\, 3555 Timmons Ln.\, H-GAC\, Houston\, TX 77027\n\n\nMcAllen\nThursday\, February 22nd\nWorkforce Solutions\, 3101 W Business 83 McAllen\, TX 78501\, Mesquite Room\n\n\nDallas\nMonday\, February 26th\nPegasus Park\n3000 Pegasus Park\, Dallas\, TX 75247 \nBallroom 101 \n\n\nVirtual\nWednesday\, February 28th\nTo register\, please click here: https://zoom.us/webinar/register/WN_o-P3rI1eQ-iuOBPRpiF9hw\n\n\n\n  \n 
URL:https://texasaeyc.org/event/stakeholder-meeting/2024-02-26/
LOCATION:Texas
END:VEVENT
BEGIN:VEVENT
DTSTART;TZID=America/Detroit:20240226T190000
DTEND;TZID=America/Detroit:20240226T203000
DTSTAMP:20260423T181349
CREATED:20240130T164140Z
LAST-MODIFIED:20240130T173847Z
UID:10000122-1708974000-1708979400@texasaeyc.org
SUMMARY:Dallas Chapter Presents Screening of Nature Play Film
DESCRIPTION:The event is grant sponsored by Texas A&M University-Commerce.  It is free to participants. We will have popcorn and drinks\, as well as books and other gifts for participants. \nOur evening will begin at 7:00pm with brief introductions followed by 52-minutes of film and ending with 30 minutes for discussion. \nRegister HERE.  \n 
URL:https://texasaeyc.org/event/dallas-chapter-presents-screening-of-nature-play-film/
LOCATION:TAMU-Commerce Dallas Center\, 8750 North Central Expressway\, 20th Floor\, Dallas
CATEGORIES:Chapter Events
END:VEVENT
END:VCALENDAR