BEGIN:VCALENDAR
VERSION:2.0
PRODID:-//TXAEYC - ECPv6.15.18//NONSGML v1.0//EN
CALSCALE:GREGORIAN
METHOD:PUBLISH
X-WR-CALNAME:TXAEYC
X-ORIGINAL-URL:https://texasaeyc.org
X-WR-CALDESC:Events for TXAEYC
REFRESH-INTERVAL;VALUE=DURATION:PT1H
X-Robots-Tag:noindex
X-PUBLISHED-TTL:PT1H
BEGIN:VTIMEZONE
TZID:America/Detroit
BEGIN:DAYLIGHT
TZOFFSETFROM:-0500
TZOFFSETTO:-0400
TZNAME:EDT
DTSTART:20230312T070000
END:DAYLIGHT
BEGIN:STANDARD
TZOFFSETFROM:-0400
TZOFFSETTO:-0500
TZNAME:EST
DTSTART:20231105T060000
END:STANDARD
BEGIN:DAYLIGHT
TZOFFSETFROM:-0500
TZOFFSETTO:-0400
TZNAME:EDT
DTSTART:20240310T070000
END:DAYLIGHT
BEGIN:STANDARD
TZOFFSETFROM:-0400
TZOFFSETTO:-0500
TZNAME:EST
DTSTART:20241103T060000
END:STANDARD
BEGIN:DAYLIGHT
TZOFFSETFROM:-0500
TZOFFSETTO:-0400
TZNAME:EDT
DTSTART:20250309T070000
END:DAYLIGHT
BEGIN:STANDARD
TZOFFSETFROM:-0400
TZOFFSETTO:-0500
TZNAME:EST
DTSTART:20251102T060000
END:STANDARD
END:VTIMEZONE
BEGIN:VEVENT
DTSTART;TZID=America/Detroit:20240413T083000
DTEND;TZID=America/Detroit:20240413T150000
DTSTAMP:20260423T163629
CREATED:20240123T214322Z
LAST-MODIFIED:20240123T214322Z
UID:10000114-1712997000-1713020400@texasaeyc.org
SUMMARY:Sam Houston Chapter Conference
DESCRIPTION:Sam Houston Chapter Presents: Reigniting Creativity in Early Childhood – SHAEYC is hosting its Annual Early Childhood Conference\, Reigniting Creativity in Early Childhood! Presenters will provide sessions that cover topics on divergent thinking and creativity. Attendees will be able to receive up to 3 training hours for their participation. Lunch will be provided! \nRegister HERE! \n  \n  \n 
URL:https://texasaeyc.org/event/sam-houston-chapter-conference/
LOCATION:The Woodlands Center\, 3380 College Park Dr.\, The Woodlands\, TX\, 77384
CATEGORIES:Chapter Conference,Chapter Events
END:VEVENT
END:VCALENDAR