BEGIN:VCALENDAR
VERSION:2.0
PRODID:-//TXAEYC - ECPv6.15.18//NONSGML v1.0//EN
CALSCALE:GREGORIAN
METHOD:PUBLISH
X-WR-CALNAME:TXAEYC
X-ORIGINAL-URL:https://texasaeyc.org
X-WR-CALDESC:Events for TXAEYC
REFRESH-INTERVAL;VALUE=DURATION:PT1H
X-Robots-Tag:noindex
X-PUBLISHED-TTL:PT1H
BEGIN:VTIMEZONE
TZID:America/Detroit
BEGIN:DAYLIGHT
TZOFFSETFROM:-0500
TZOFFSETTO:-0400
TZNAME:EDT
DTSTART:20230312T070000
END:DAYLIGHT
BEGIN:STANDARD
TZOFFSETFROM:-0400
TZOFFSETTO:-0500
TZNAME:EST
DTSTART:20231105T060000
END:STANDARD
BEGIN:DAYLIGHT
TZOFFSETFROM:-0500
TZOFFSETTO:-0400
TZNAME:EDT
DTSTART:20240310T070000
END:DAYLIGHT
BEGIN:STANDARD
TZOFFSETFROM:-0400
TZOFFSETTO:-0500
TZNAME:EST
DTSTART:20241103T060000
END:STANDARD
BEGIN:DAYLIGHT
TZOFFSETFROM:-0500
TZOFFSETTO:-0400
TZNAME:EDT
DTSTART:20250309T070000
END:DAYLIGHT
BEGIN:STANDARD
TZOFFSETFROM:-0400
TZOFFSETTO:-0500
TZNAME:EST
DTSTART:20251102T060000
END:STANDARD
END:VTIMEZONE
BEGIN:VEVENT
DTSTART;TZID=America/Detroit:20240720T090000
DTEND;TZID=America/Detroit:20240720T150000
DTSTAMP:20260423T110539
CREATED:20240529T144147Z
LAST-MODIFIED:20240624T164208Z
UID:10000136-1721466000-1721487600@texasaeyc.org
SUMMARY:Going for Gold! Family Childcare Conference
DESCRIPTION:Visit vendors\, network with colleagues\, and gain new insights &\nstrategies! \nRegistration is $25 \nDeadline for registration is 5:00 pm on July 12\, 2204 \nSession topics will include: \n\nAwareness of Typical & Atypical Development\nSuccessful Tips to Maximize Learning\nThe Science of Reading & Emergent Literacy\nNAFCC Accreditation 101 Panel Discussion\n\n  \nLunch included along with goodie bags! \n  \nRegister by sending the registration information below and your check or money order payable to Texas AEYC. \nMail payment and information below to: \nCentral TX Workforce Board \nPO Box 450 \nBelton\, Tx 76513 \n  \n 
URL:https://texasaeyc.org/event/going-for-gold-family-childcare-conference/
LOCATION:Hilton Garden Inn\, Temple\, TX\, United States
END:VEVENT
END:VCALENDAR