BEGIN:VCALENDAR
VERSION:2.0
PRODID:-//TXAEYC - ECPv6.15.18//NONSGML v1.0//EN
CALSCALE:GREGORIAN
METHOD:PUBLISH
X-ORIGINAL-URL:https://texasaeyc.org
X-WR-CALDESC:Events for TXAEYC
REFRESH-INTERVAL;VALUE=DURATION:PT1H
X-Robots-Tag:noindex
X-PUBLISHED-TTL:PT1H
BEGIN:VTIMEZONE
TZID:America/Detroit
BEGIN:DAYLIGHT
TZOFFSETFROM:-0500
TZOFFSETTO:-0400
TZNAME:EDT
DTSTART:20230312T070000
END:DAYLIGHT
BEGIN:STANDARD
TZOFFSETFROM:-0400
TZOFFSETTO:-0500
TZNAME:EST
DTSTART:20231105T060000
END:STANDARD
BEGIN:DAYLIGHT
TZOFFSETFROM:-0500
TZOFFSETTO:-0400
TZNAME:EDT
DTSTART:20240310T070000
END:DAYLIGHT
BEGIN:STANDARD
TZOFFSETFROM:-0400
TZOFFSETTO:-0500
TZNAME:EST
DTSTART:20241103T060000
END:STANDARD
BEGIN:DAYLIGHT
TZOFFSETFROM:-0500
TZOFFSETTO:-0400
TZNAME:EDT
DTSTART:20250309T070000
END:DAYLIGHT
BEGIN:STANDARD
TZOFFSETFROM:-0400
TZOFFSETTO:-0500
TZNAME:EST
DTSTART:20251102T060000
END:STANDARD
END:VTIMEZONE
BEGIN:VEVENT
DTSTART;TZID=America/Detroit:20240808T123000
DTEND;TZID=America/Detroit:20240808T140000
DTSTAMP:20260423T090232
CREATED:20240730T172251Z
LAST-MODIFIED:20240730T172251Z
UID:10000143-1723120200-1723125600@texasaeyc.org
SUMMARY:Protecting Children in Child Care Settings.
DESCRIPTION:Child Care Regulation (CCR) presents Protecting Children in Child Care Settings. \nThis presentation is offered on 8/8/2024 from 12:30PM-2PM by the Unregulated Operations Unit of Child Care Regulation. \nCCR is part of the Texas Health and Human Services Commission and is charged with regulating childcare operations. This presentation will help form an understanding of CCR’s role in ensuring the health\, safety\, and well-being of children in out of home care and share the benefits of choosing regulated child care. \nIf you have any questions about this presentation or registration\, please contact UnregulatedOperations@hhs.texas.gov. \n 
URL:https://texasaeyc.org/event/protecting-children-in-child-care-settings/
LOCATION:TX
ATTACH;FMTTYPE=image/png:https://texasaeyc.org/wp-content/uploads/2024/07/Protecting-Children-in-Care.png
END:VEVENT
END:VCALENDAR