BEGIN:VCALENDAR
VERSION:2.0
PRODID:-//TXAEYC - ECPv6.15.18//NONSGML v1.0//EN
CALSCALE:GREGORIAN
METHOD:PUBLISH
X-WR-CALNAME:TXAEYC
X-ORIGINAL-URL:https://texasaeyc.org
X-WR-CALDESC:Events for TXAEYC
REFRESH-INTERVAL;VALUE=DURATION:PT1H
X-Robots-Tag:noindex
X-PUBLISHED-TTL:PT1H
BEGIN:VTIMEZONE
TZID:America/Detroit
BEGIN:DAYLIGHT
TZOFFSETFROM:-0500
TZOFFSETTO:-0400
TZNAME:EDT
DTSTART:20230312T070000
END:DAYLIGHT
BEGIN:STANDARD
TZOFFSETFROM:-0400
TZOFFSETTO:-0500
TZNAME:EST
DTSTART:20231105T060000
END:STANDARD
BEGIN:DAYLIGHT
TZOFFSETFROM:-0500
TZOFFSETTO:-0400
TZNAME:EDT
DTSTART:20240310T070000
END:DAYLIGHT
BEGIN:STANDARD
TZOFFSETFROM:-0400
TZOFFSETTO:-0500
TZNAME:EST
DTSTART:20241103T060000
END:STANDARD
BEGIN:DAYLIGHT
TZOFFSETFROM:-0500
TZOFFSETTO:-0400
TZNAME:EDT
DTSTART:20250309T070000
END:DAYLIGHT
BEGIN:STANDARD
TZOFFSETFROM:-0400
TZOFFSETTO:-0500
TZNAME:EST
DTSTART:20251102T060000
END:STANDARD
END:VTIMEZONE
BEGIN:VEVENT
DTSTART;TZID=America/Detroit:20240824T090000
DTEND;TZID=America/Detroit:20240824T150000
DTSTAMP:20260423T090052
CREATED:20240521T213023Z
LAST-MODIFIED:20240521T213023Z
UID:10000135-1724490000-1724511600@texasaeyc.org
SUMMARY:ChildreNiños International Conference
DESCRIPTION:Register Here! \nEarly Childhood Conference in English and Spanish\nTheme:\nSTEM: Science\, Technology\, Engineering and Mathematics \nDate 1:\nFriday\, August 23\, 2024\, 9am to 3pm\, Lunch Provided\nAudience: Administrators \nDate 2:\nSaturday\, August 24\, 2024\, 9am to 3pm\, Lunch Provided\nAudience: ALL Educators \nLearning Objectives for Attendees:\nScientific updates to educators for children’s future\nPositive Interactions to promote early childhood education\nSTEM and Cultural Self-Identity of children to obtain a successful future
URL:https://texasaeyc.org/event/childreninos-international-conference/2024-08-24/
LOCATION:Courtyard by Marriott\, 1721 E. Central Texas Expwy\, Killeen\, TX\, 76541\, United States
END:VEVENT
END:VCALENDAR