BEGIN:VCALENDAR
VERSION:2.0
PRODID:-//TXAEYC - ECPv6.15.18//NONSGML v1.0//EN
CALSCALE:GREGORIAN
METHOD:PUBLISH
X-WR-CALNAME:TXAEYC
X-ORIGINAL-URL:https://texasaeyc.org
X-WR-CALDESC:Events for TXAEYC
REFRESH-INTERVAL;VALUE=DURATION:PT1H
X-Robots-Tag:noindex
X-PUBLISHED-TTL:PT1H
BEGIN:VTIMEZONE
TZID:America/Detroit
BEGIN:DAYLIGHT
TZOFFSETFROM:-0500
TZOFFSETTO:-0400
TZNAME:EDT
DTSTART:20230312T070000
END:DAYLIGHT
BEGIN:STANDARD
TZOFFSETFROM:-0400
TZOFFSETTO:-0500
TZNAME:EST
DTSTART:20231105T060000
END:STANDARD
BEGIN:DAYLIGHT
TZOFFSETFROM:-0500
TZOFFSETTO:-0400
TZNAME:EDT
DTSTART:20240310T070000
END:DAYLIGHT
BEGIN:STANDARD
TZOFFSETFROM:-0400
TZOFFSETTO:-0500
TZNAME:EST
DTSTART:20241103T060000
END:STANDARD
BEGIN:DAYLIGHT
TZOFFSETFROM:-0500
TZOFFSETTO:-0400
TZNAME:EDT
DTSTART:20250309T070000
END:DAYLIGHT
BEGIN:STANDARD
TZOFFSETFROM:-0400
TZOFFSETTO:-0500
TZNAME:EST
DTSTART:20251102T060000
END:STANDARD
END:VTIMEZONE
BEGIN:VEVENT
DTSTART;TZID=America/Detroit:20240924T180000
DTEND;TZID=America/Detroit:20240924T200000
DTSTAMP:20260423T071451
CREATED:20240826T152820Z
LAST-MODIFIED:20240826T152820Z
UID:10000147-1727200800-1727208000@texasaeyc.org
SUMMARY:FWAEYC: Meet The Board Mixer
DESCRIPTION:This event is a wonderful opportunity to connect with fellow members of the TXAEYC- Fort Worth Chapter\, meet our board members\, and learn more about our initiatives and upcoming events. \nFor more information\, please email: ftworthchapter@texasaeyc.org
URL:https://texasaeyc.org/event/fwaeyc-meet-the-board-mixer/
LOCATION:Mr Hibachi\, 5005 S Cooper St\, Arlington\, TX\, United States
ATTACH;FMTTYPE=image/png:https://texasaeyc.org/wp-content/uploads/2024/08/FWAEYC-Meet-the-Board-.png
END:VEVENT
END:VCALENDAR