BEGIN:VCALENDAR
VERSION:2.0
PRODID:-//TXAEYC - ECPv6.15.18//NONSGML v1.0//EN
CALSCALE:GREGORIAN
METHOD:PUBLISH
X-WR-CALNAME:TXAEYC
X-ORIGINAL-URL:https://texasaeyc.org
X-WR-CALDESC:Events for TXAEYC
REFRESH-INTERVAL;VALUE=DURATION:PT1H
X-Robots-Tag:noindex
X-PUBLISHED-TTL:PT1H
BEGIN:VTIMEZONE
TZID:America/Detroit
BEGIN:DAYLIGHT
TZOFFSETFROM:-0500
TZOFFSETTO:-0400
TZNAME:EDT
DTSTART:20230312T070000
END:DAYLIGHT
BEGIN:STANDARD
TZOFFSETFROM:-0400
TZOFFSETTO:-0500
TZNAME:EST
DTSTART:20231105T060000
END:STANDARD
BEGIN:DAYLIGHT
TZOFFSETFROM:-0500
TZOFFSETTO:-0400
TZNAME:EDT
DTSTART:20240310T070000
END:DAYLIGHT
BEGIN:STANDARD
TZOFFSETFROM:-0400
TZOFFSETTO:-0500
TZNAME:EST
DTSTART:20241103T060000
END:STANDARD
BEGIN:DAYLIGHT
TZOFFSETFROM:-0500
TZOFFSETTO:-0400
TZNAME:EDT
DTSTART:20250309T070000
END:DAYLIGHT
BEGIN:STANDARD
TZOFFSETFROM:-0400
TZOFFSETTO:-0500
TZNAME:EST
DTSTART:20251102T060000
END:STANDARD
END:VTIMEZONE
BEGIN:VEVENT
DTSTART;VALUE=DATE:20241010
DTEND;VALUE=DATE:20241013
DTSTAMP:20260423T052044
CREATED:20230411T160002Z
LAST-MODIFIED:20240801T144117Z
UID:10000021-1728518400-1728777599@texasaeyc.org
SUMMARY:2024 TXAEYC Annual Conference
DESCRIPTION:Join us for our 2024 Annual Conference at the Embassy Suites in Frisco\, TX! \n 
URL:https://texasaeyc.org/event/2024-txaeyc-annual-confernece/
LOCATION:Embassy Suites by Hilton Dallas-Frisco\, 7600 John Q. Hammons Drive\, Frisco\, TX\, 75034\, United States
CATEGORIES:State Conference
ATTACH;FMTTYPE=image/jpeg:https://texasaeyc.org/wp-content/uploads/2024/06/2024-Annual-Conference-Banner-Webpage.jpg
END:VEVENT
BEGIN:VEVENT
DTSTART;TZID=America/Detroit:20241010T173000
DTEND;TZID=America/Detroit:20241010T190000
DTSTAMP:20260423T052044
CREATED:20240830T163833Z
LAST-MODIFIED:20240909T134245Z
UID:10000151-1728581400-1728586800@texasaeyc.org
SUMMARY:TAMU System Reception
DESCRIPTION:TAMU System Reception after the first day of the TXAEYC Conference.
URL:https://texasaeyc.org/event/tamu-system-reception/
LOCATION:Tru by Hilton Frisco – Dallas\, 2310 Parkwood Blvd.\, Frisco\, TX\, 75034\, United States
ATTACH;FMTTYPE=image/png:https://texasaeyc.org/wp-content/uploads/2024/08/TAMU-System-Reception.png
END:VEVENT
END:VCALENDAR