BEGIN:VCALENDAR
VERSION:2.0
PRODID:-//TXAEYC - ECPv6.15.18//NONSGML v1.0//EN
CALSCALE:GREGORIAN
METHOD:PUBLISH
X-WR-CALNAME:TXAEYC
X-ORIGINAL-URL:https://texasaeyc.org
X-WR-CALDESC:Events for TXAEYC
REFRESH-INTERVAL;VALUE=DURATION:PT1H
X-Robots-Tag:noindex
X-PUBLISHED-TTL:PT1H
BEGIN:VTIMEZONE
TZID:America/Detroit
BEGIN:DAYLIGHT
TZOFFSETFROM:-0500
TZOFFSETTO:-0400
TZNAME:EDT
DTSTART:20230312T070000
END:DAYLIGHT
BEGIN:STANDARD
TZOFFSETFROM:-0400
TZOFFSETTO:-0500
TZNAME:EST
DTSTART:20231105T060000
END:STANDARD
BEGIN:DAYLIGHT
TZOFFSETFROM:-0500
TZOFFSETTO:-0400
TZNAME:EDT
DTSTART:20240310T070000
END:DAYLIGHT
BEGIN:STANDARD
TZOFFSETFROM:-0400
TZOFFSETTO:-0500
TZNAME:EST
DTSTART:20241103T060000
END:STANDARD
BEGIN:DAYLIGHT
TZOFFSETFROM:-0500
TZOFFSETTO:-0400
TZNAME:EDT
DTSTART:20250309T070000
END:DAYLIGHT
BEGIN:STANDARD
TZOFFSETFROM:-0400
TZOFFSETTO:-0500
TZNAME:EST
DTSTART:20251102T060000
END:STANDARD
END:VTIMEZONE
BEGIN:VEVENT
DTSTART;TZID=America/Detroit:20241019T090000
DTEND;TZID=America/Detroit:20241019T150000
DTSTAMP:20260423T045028
CREATED:20240930T194916Z
LAST-MODIFIED:20240930T194916Z
UID:10000162-1729328400-1729350000@texasaeyc.org
SUMMARY:Arts Fest
DESCRIPTION:Central Texas Chapter of the Texas Association for the Education of Young Children and Workforce Solutions of Central Texas Present\nArts Fest! \nOctober 19\, 2024 Courtyard by Marriott Killeen\, TX 9:00 AM – 3:00 PM \nCost is $25 for all attendees (non-refundable; you can substitute registrants) Bring your NAEYC member ID # with you for a Special Members Only reward! Lunch is provided. \nREGISTRATION AND PAYMENT MUST BE MADE IN ADVANCE! NO PAYMENTS TAKEN AT THE DOOR! Mail your check or money order made payable to Texas AEYC Mail registration to: Larry Kotch Central TX Workforce Board PO Box 450 Belton\, TX 76513
URL:https://texasaeyc.org/event/arts-fest/
LOCATION:Courtyard By Marriott Killeen\, Killeen\, Texas
ATTACH;FMTTYPE=application/pdf:https://texasaeyc.org/wp-content/uploads/2024/09/arts-fest-flyer-2024-1.pdf
END:VEVENT
END:VCALENDAR