BEGIN:VCALENDAR
VERSION:2.0
PRODID:-//TXAEYC - ECPv6.15.18//NONSGML v1.0//EN
CALSCALE:GREGORIAN
METHOD:PUBLISH
X-ORIGINAL-URL:https://texasaeyc.org
X-WR-CALDESC:Events for TXAEYC
REFRESH-INTERVAL;VALUE=DURATION:PT1H
X-Robots-Tag:noindex
X-PUBLISHED-TTL:PT1H
BEGIN:VTIMEZONE
TZID:America/Detroit
BEGIN:DAYLIGHT
TZOFFSETFROM:-0500
TZOFFSETTO:-0400
TZNAME:EDT
DTSTART:20230312T070000
END:DAYLIGHT
BEGIN:STANDARD
TZOFFSETFROM:-0400
TZOFFSETTO:-0500
TZNAME:EST
DTSTART:20231105T060000
END:STANDARD
BEGIN:DAYLIGHT
TZOFFSETFROM:-0500
TZOFFSETTO:-0400
TZNAME:EDT
DTSTART:20240310T070000
END:DAYLIGHT
BEGIN:STANDARD
TZOFFSETFROM:-0400
TZOFFSETTO:-0500
TZNAME:EST
DTSTART:20241103T060000
END:STANDARD
BEGIN:DAYLIGHT
TZOFFSETFROM:-0500
TZOFFSETTO:-0400
TZNAME:EDT
DTSTART:20250309T070000
END:DAYLIGHT
BEGIN:STANDARD
TZOFFSETFROM:-0400
TZOFFSETTO:-0500
TZNAME:EST
DTSTART:20251102T060000
END:STANDARD
END:VTIMEZONE
BEGIN:VEVENT
DTSTART;TZID=America/Detroit:20241025T080000
DTEND;TZID=America/Detroit:20241026T170000
DTSTAMP:20260423T045232
CREATED:20240826T154158Z
LAST-MODIFIED:20240917T152904Z
UID:10000149-1729843200-1729962000@texasaeyc.org
SUMMARY:San Antonio Chapter of TXAEYC Fall Symposium
DESCRIPTION:Day One – Leaders: October 25th\, 8am-12pm \nDay Two – Teacher: October 26th\, 8am-12pm \nRegister Here!
URL:https://texasaeyc.org/event/san-antonio-chapter-of-txaeyc-fall-symposium/
LOCATION:San Antonio College
ATTACH;FMTTYPE=image/jpeg:https://texasaeyc.org/wp-content/uploads/2024/08/thumbnail_Christian-Bellissimo-save-the-date.png.jpg
END:VEVENT
END:VCALENDAR