BEGIN:VCALENDAR
VERSION:2.0
PRODID:-//TXAEYC - ECPv6.15.18//NONSGML v1.0//EN
CALSCALE:GREGORIAN
METHOD:PUBLISH
X-WR-CALNAME:TXAEYC
X-ORIGINAL-URL:https://texasaeyc.org
X-WR-CALDESC:Events for TXAEYC
REFRESH-INTERVAL;VALUE=DURATION:PT1H
X-Robots-Tag:noindex
X-PUBLISHED-TTL:PT1H
BEGIN:VTIMEZONE
TZID:America/Detroit
BEGIN:DAYLIGHT
TZOFFSETFROM:-0500
TZOFFSETTO:-0400
TZNAME:EDT
DTSTART:20230312T070000
END:DAYLIGHT
BEGIN:STANDARD
TZOFFSETFROM:-0400
TZOFFSETTO:-0500
TZNAME:EST
DTSTART:20231105T060000
END:STANDARD
BEGIN:DAYLIGHT
TZOFFSETFROM:-0500
TZOFFSETTO:-0400
TZNAME:EDT
DTSTART:20240310T070000
END:DAYLIGHT
BEGIN:STANDARD
TZOFFSETFROM:-0400
TZOFFSETTO:-0500
TZNAME:EST
DTSTART:20241103T060000
END:STANDARD
BEGIN:DAYLIGHT
TZOFFSETFROM:-0500
TZOFFSETTO:-0400
TZNAME:EDT
DTSTART:20250309T070000
END:DAYLIGHT
BEGIN:STANDARD
TZOFFSETFROM:-0400
TZOFFSETTO:-0500
TZNAME:EST
DTSTART:20251102T060000
END:STANDARD
END:VTIMEZONE
BEGIN:VEVENT
DTSTART;TZID=America/Detroit:20241107T133000
DTEND;TZID=America/Detroit:20241107T143000
DTSTAMP:20260423T030125
CREATED:20241022T193608Z
LAST-MODIFIED:20241023T150419Z
UID:10000165-1730986200-1730989800@texasaeyc.org
SUMMARY:T.E.A.C.H. Associate and Bachelor Scholarship Info Session:
DESCRIPTION:T.E.A.C.H. Associate and Bachelor Scholarship Info Session – \nAre you ready to go back to school? Now is the time! Please join us and learn all about T.E.A.C.H. Associate and Bachelor scholarships and how you may be eligible to attend school for the upcoming Spring semester.
URL:https://texasaeyc.org/event/t-e-a-c-h-associate-and-bachelor-scholarship-info-session-2/
LOCATION:TX
END:VEVENT
END:VCALENDAR