BEGIN:VCALENDAR
VERSION:2.0
PRODID:-//TXAEYC - ECPv6.15.18//NONSGML v1.0//EN
CALSCALE:GREGORIAN
METHOD:PUBLISH
X-ORIGINAL-URL:https://texasaeyc.org
X-WR-CALDESC:Events for TXAEYC
REFRESH-INTERVAL;VALUE=DURATION:PT1H
X-Robots-Tag:noindex
X-PUBLISHED-TTL:PT1H
BEGIN:VTIMEZONE
TZID:America/Detroit
BEGIN:DAYLIGHT
TZOFFSETFROM:-0500
TZOFFSETTO:-0400
TZNAME:EDT
DTSTART:20240310T070000
END:DAYLIGHT
BEGIN:STANDARD
TZOFFSETFROM:-0400
TZOFFSETTO:-0500
TZNAME:EST
DTSTART:20241103T060000
END:STANDARD
BEGIN:DAYLIGHT
TZOFFSETFROM:-0500
TZOFFSETTO:-0400
TZNAME:EDT
DTSTART:20250309T070000
END:DAYLIGHT
BEGIN:STANDARD
TZOFFSETFROM:-0400
TZOFFSETTO:-0500
TZNAME:EST
DTSTART:20251102T060000
END:STANDARD
BEGIN:DAYLIGHT
TZOFFSETFROM:-0500
TZOFFSETTO:-0400
TZNAME:EDT
DTSTART:20260308T070000
END:DAYLIGHT
BEGIN:STANDARD
TZOFFSETFROM:-0400
TZOFFSETTO:-0500
TZNAME:EST
DTSTART:20261101T060000
END:STANDARD
END:VTIMEZONE
BEGIN:VEVENT
DTSTART;TZID=America/Detroit:20250712T090000
DTEND;TZID=America/Detroit:20250712T150000
DTSTAMP:20260422T113102
CREATED:20250602T213142Z
LAST-MODIFIED:20250603T043330Z
UID:10000176-1752310800-1752332400@texasaeyc.org
SUMMARY:Central Texas Chapter Presents "Roots and Wings\, Growing Stronger through Nature"
DESCRIPTION:Roots & Wings: Growing Stronger Through NatureHilton Garden Inn\, Temple\, TXSaturday\, July 12\, 2025 | 9:00 AM – 3:00 PM \nExplore the connection between nature and child development at this one-day training conference featuring Dr. Sandra Duncan\, Dr. Laura Wilhelm\, and Jennifer McCarville. Learn how outdoor experiences\, animals\, and intentional environments shape behavior and support growth. \nIncludes 6 training hours\, lunch\, and on-site vendors like Kaplan\, Brewer\, and Root & Twig.Register 4 staff and get the 5th free. Each program will also receive a free book. \nOnly 125 spots available.$25 per personRegistration deadline: July 4 at 5:00 PMParticipants must have a TECPDS account prior to attending: https://public.tecpds.org/sign-up/ \nMail payment and information below to: \nCentral TX Workforce Board\nPO Box 450\, Belton\, TX 76513\n*MAKE ANY CHECKS OR MONEY ORDERS PAYABLE TO TEXAS AEYC *\nIf your payment is made payable to any other organization\, it will be returned. \nSEE FLYER
URL:https://texasaeyc.org/event/central-texas-chapter-presents-roots-and-wings-growing-stronger-through-nature/
LOCATION:Hilton Garden Inn Temple\, 1749 Scott Blvd.\, Temple\, Texas
CATEGORIES:Chapter Conference,Chapter Events
END:VEVENT
END:VCALENDAR