BEGIN:VCALENDAR
VERSION:2.0
PRODID:-//TXAEYC - ECPv6.15.18//NONSGML v1.0//EN
CALSCALE:GREGORIAN
METHOD:PUBLISH
X-WR-CALNAME:TXAEYC
X-ORIGINAL-URL:https://texasaeyc.org
X-WR-CALDESC:Events for TXAEYC
REFRESH-INTERVAL;VALUE=DURATION:PT1H
X-Robots-Tag:noindex
X-PUBLISHED-TTL:PT1H
BEGIN:VTIMEZONE
TZID:America/Detroit
BEGIN:DAYLIGHT
TZOFFSETFROM:-0500
TZOFFSETTO:-0400
TZNAME:EDT
DTSTART:20240310T070000
END:DAYLIGHT
BEGIN:STANDARD
TZOFFSETFROM:-0400
TZOFFSETTO:-0500
TZNAME:EST
DTSTART:20241103T060000
END:STANDARD
BEGIN:DAYLIGHT
TZOFFSETFROM:-0500
TZOFFSETTO:-0400
TZNAME:EDT
DTSTART:20250309T070000
END:DAYLIGHT
BEGIN:STANDARD
TZOFFSETFROM:-0400
TZOFFSETTO:-0500
TZNAME:EST
DTSTART:20251102T060000
END:STANDARD
BEGIN:DAYLIGHT
TZOFFSETFROM:-0500
TZOFFSETTO:-0400
TZNAME:EDT
DTSTART:20260308T070000
END:DAYLIGHT
BEGIN:STANDARD
TZOFFSETFROM:-0400
TZOFFSETTO:-0500
TZNAME:EST
DTSTART:20261101T060000
END:STANDARD
END:VTIMEZONE
BEGIN:VEVENT
DTSTART;TZID=America/Detroit:20251106T080000
DTEND;TZID=America/Detroit:20251108T170000
DTSTAMP:20260421T204459
CREATED:20230505T165445Z
LAST-MODIFIED:20230509T175107Z
UID:10000036-1762416000-1762621200@texasaeyc.org
SUMMARY:TXAEYC 2025 Annual Conference at the Kalahari in Round Rock
DESCRIPTION:Join early childhood professionals from all over the state for the largest early childhood conference in Texas! With countless opportunities to connect\, engage\, and learn\, the 2025 TXAEYC Annual Conference has sessions and content for a variety of roles in the early childhood field and early childhood professionals at various stages in their career. \nMore details to come!
URL:https://texasaeyc.org/event/txaeyc-2025-annual-conference-at-the-kalahari-in-round-rock/
LOCATION:Kalahari Resort\, 3001 Kalahari Blvd\, Round Rock\, TX\, 78665\, United States
CATEGORIES:State Conference
END:VEVENT
END:VCALENDAR