BEGIN:VCALENDAR
VERSION:2.0
PRODID:-//TXAEYC - ECPv6.15.18//NONSGML v1.0//EN
CALSCALE:GREGORIAN
METHOD:PUBLISH
X-ORIGINAL-URL:https://texasaeyc.org
X-WR-CALDESC:Events for TXAEYC
REFRESH-INTERVAL;VALUE=DURATION:PT1H
X-Robots-Tag:noindex
X-PUBLISHED-TTL:PT1H
BEGIN:VTIMEZONE
TZID:America/Detroit
BEGIN:DAYLIGHT
TZOFFSETFROM:-0500
TZOFFSETTO:-0400
TZNAME:EDT
DTSTART:20250309T070000
END:DAYLIGHT
BEGIN:STANDARD
TZOFFSETFROM:-0400
TZOFFSETTO:-0500
TZNAME:EST
DTSTART:20251102T060000
END:STANDARD
BEGIN:DAYLIGHT
TZOFFSETFROM:-0500
TZOFFSETTO:-0400
TZNAME:EDT
DTSTART:20260308T070000
END:DAYLIGHT
BEGIN:STANDARD
TZOFFSETFROM:-0400
TZOFFSETTO:-0500
TZNAME:EST
DTSTART:20261101T060000
END:STANDARD
BEGIN:DAYLIGHT
TZOFFSETFROM:-0500
TZOFFSETTO:-0400
TZNAME:EDT
DTSTART:20270314T070000
END:DAYLIGHT
BEGIN:STANDARD
TZOFFSETFROM:-0400
TZOFFSETTO:-0500
TZNAME:EST
DTSTART:20271107T060000
END:STANDARD
END:VTIMEZONE
BEGIN:VEVENT
DTSTART;TZID=America/Detroit:20260417T083000
DTEND;TZID=America/Detroit:20260417T120000
DTSTAMP:20260421T153726
CREATED:20260325T163344Z
LAST-MODIFIED:20260325T163344Z
UID:10000195-1776414600-1776427200@texasaeyc.org
SUMMARY:San Antonio Chapter: Breakfast of Champions "Bring Your Pink Back!"
DESCRIPTION:Start your morning inspired and recharged at Breakfast of Champions: Bring Your Pink Back! \nThis half-day experience centers on supporting your well-being\, with thoughtful conversations around mindfulness\, managing stress\, and sustaining your work over time. You’ll also have the chance to connect with others in the field and walk away with ideas you can carry back into your daily routine feeling more steady and refreshed. \nApril 17\, 2026\n8:30 AM – 12:00 PM\nKLRN\, 501 Broadway\, San Antonio\n$25 per person \nA simple\, meaningful space to learn\, restore\, and reconnect. \nRegister here: https://lp.constantcontactpages.com/ev/reg/6tfhcnz
URL:https://texasaeyc.org/event/san-antonio-chapter-breakfast-of-champions-bring-your-pink-back/
LOCATION:KLRN\, 501 Boroadway\, San Antonio\, Texas\, 78215
END:VEVENT
BEGIN:VEVENT
DTSTART;TZID=America/Detroit:20260417T183000
DTEND;TZID=America/Detroit:20260417T200000
DTSTAMP:20260421T153726
CREATED:20260406T172705Z
LAST-MODIFIED:20260406T172705Z
UID:10000196-1776450600-1776456000@texasaeyc.org
SUMMARY:Fort Worth Chapter: Week of the Young Child Mixer
DESCRIPTION:Join the Fort Worth TXAEYC Chapter for an evening that brings early childhood professionals together in a more relaxed setting. This mixer is a chance to step outside the day-to-day\, connect with others who understand the work\, and spend time celebrating the role early educators play in shaping strong beginnings. \nYou’ll have space to meet new faces\, reconnect with familiar ones\, and enjoy light bites and refreshments along the way. Whether you’re a teacher\, director\, advocate\, or partner in the field\, this is a simple\, meaningful way to be part of the Week of the Young Child. \nRSVP Here: https://forms.gle/7gZnEEyyCciiuizw8
URL:https://texasaeyc.org/event/fort-worth-chapter-week-of-the-young-child-mixer/
LOCATION:TX
CATEGORIES:Chapter Events
END:VEVENT
BEGIN:VEVENT
DTSTART;TZID=America/Detroit:20260519T090000
DTEND;TZID=America/Detroit:20260520T160000
DTSTAMP:20260421T153726
CREATED:20260406T180945Z
LAST-MODIFIED:20260406T180945Z
UID:10000197-1779181200-1779292800@texasaeyc.org
SUMMARY:Director Credential Training – Austin
DESCRIPTION:Earn your Director Credential through completing 60 hours of child development and business/management training with Texas Association for the Education of Young Children. This training consists of self-paced reading\, videos\, interactive assignments and in-person training. \nWhen\nTuesday\, May 19\, 2026 9:00 AM – 4:00 PM CDT \nWednesday\, May 20\, 2026  9:00 AM – 4:00 PM CDT \nWhere\nAustin \nRegister for Austin Cohort: https://lp.constantcontactpages.com/ev/reg/km35zfz
URL:https://texasaeyc.org/event/director-credential-training-austin/
LOCATION:Workforce Solutions Capital Area 9001 N IH35\, Ste 110C\, Austin\, TX 78753\, 9001 N IH35\, Ste 110C\, Austin\, TX\, 78753\, United States
CATEGORIES:Training
END:VEVENT
BEGIN:VEVENT
DTSTART;TZID=America/Detroit:20261105T080000
DTEND;TZID=America/Detroit:20261107T170000
DTSTAMP:20260421T153726
CREATED:20230505T165604Z
LAST-MODIFIED:20240130T153031Z
UID:10000037-1793865600-1794070800@texasaeyc.org
SUMMARY:TXAEYC 2026 Annual Conference at the Kalahari in Round Rock
DESCRIPTION:Join early childhood professionals from all over the state for the largest early childhood conference in Texas! With countless opportunities to connect\, engage\, and learn\, the 2026 TXAEYC Annual Conference has sessions and content for a variety of roles in the early childhood field and early childhood professionals at various stages in their career. \nMore details to come!
URL:https://texasaeyc.org/event/txaeyc-2026-annual-conference-at-the-kalahari-in-round-rock/
LOCATION:Kalahari Resort\, 3001 Kalahari Blvd\, Round Rock\, TX\, 78665\, United States
CATEGORIES:State Conference
END:VEVENT
END:VCALENDAR