BEGIN:VCALENDAR
VERSION:2.0
PRODID:-//TXAEYC - ECPv6.15.18//NONSGML v1.0//EN
CALSCALE:GREGORIAN
METHOD:PUBLISH
X-WR-CALNAME:TXAEYC
X-ORIGINAL-URL:https://texasaeyc.org
X-WR-CALDESC:Events for TXAEYC
REFRESH-INTERVAL;VALUE=DURATION:PT1H
X-Robots-Tag:noindex
X-PUBLISHED-TTL:PT1H
BEGIN:VTIMEZONE
TZID:America/Detroit
BEGIN:DAYLIGHT
TZOFFSETFROM:-0500
TZOFFSETTO:-0400
TZNAME:EDT
DTSTART:20220313T070000
END:DAYLIGHT
BEGIN:STANDARD
TZOFFSETFROM:-0400
TZOFFSETTO:-0500
TZNAME:EST
DTSTART:20221106T060000
END:STANDARD
BEGIN:DAYLIGHT
TZOFFSETFROM:-0500
TZOFFSETTO:-0400
TZNAME:EDT
DTSTART:20230312T070000
END:DAYLIGHT
BEGIN:STANDARD
TZOFFSETFROM:-0400
TZOFFSETTO:-0500
TZNAME:EST
DTSTART:20231105T060000
END:STANDARD
BEGIN:DAYLIGHT
TZOFFSETFROM:-0500
TZOFFSETTO:-0400
TZNAME:EDT
DTSTART:20240310T070000
END:DAYLIGHT
BEGIN:STANDARD
TZOFFSETFROM:-0400
TZOFFSETTO:-0500
TZNAME:EST
DTSTART:20241103T060000
END:STANDARD
END:VTIMEZONE
BEGIN:VEVENT
DTSTART;TZID=America/Detroit:20230324T000000
DTEND;TZID=America/Detroit:20230325T170000
DTSTAMP:20260423T041137
CREATED:20230317T151827Z
LAST-MODIFIED:20230323T172512Z
UID:10000007-1679616000-1679763600@texasaeyc.org
SUMMARY:San Antonio Annual Chapter Conference
DESCRIPTION:San Antonio Chapter Presents  \nCultivating the Power of Inquiry and Wonder \nThe San Antonio Chapter of TXAEYC invites program leaders to join us Friday for a day packed with great information to support your program. Saturday\, leaders and teachers are invited as we host a variety of topics that puts play at the center of learning. \nDates: March 24 Leaders (6 training hours) \nand/or \nMarch 25 all early childhood audience (6 training hours) \nLocation: Texas A&M University\, San Antonio \nNo onsite registrations. \nRegister HERE.
URL:https://texasaeyc.org/event/san-antonio-annual-chapter-conference/
CATEGORIES:Chapter Events,State Conference,Training
END:VEVENT
BEGIN:VEVENT
DTSTART;VALUE=DATE:20230322
DTEND;VALUE=DATE:20230323
DTSTAMP:20260423T041137
CREATED:20230317T151827Z
LAST-MODIFIED:20230317T151827Z
UID:10000006-1679443200-1679529599@texasaeyc.org
SUMMARY:SECA 74th Annual Conference
DESCRIPTION:On March 2nd\, The Southern Early Childhood Association (SECA) will be hosting a conference in Tennessee that will bring together educators\, and professionals in the field of early childhood education and care. This conference offers an opportunity to learn about the latest research\, best practices\, and advocacy efforts in the field\, as well as network with other professionals and advocates committed to improving the quality of care and education for young children. Don’t miss this chance to gain new insights and strategies to enhance your work and make a positive impact. Click on the links below for more information: \n  \nWhen: March 2\, 2023 \nWhere: Chattanooga Marriot Downtown\, TN \nMore information\nRegistration
URL:https://texasaeyc.org/event/seca-74th-annual-conference/
CATEGORIES:National Conferences
END:VEVENT
BEGIN:VEVENT
DTSTART;VALUE=DATE:20230226
DTEND;VALUE=DATE:20230227
DTSTAMP:20260423T041137
CREATED:20230317T151825Z
LAST-MODIFIED:20230317T151825Z
UID:10000001-1677369600-1677455999@texasaeyc.org
SUMMARY:NAEYC Public Policy Forum
DESCRIPTION:This year\, NAEYC’s Public Policy Forum is back in-person! Join us as we work together to strengthen our advocacy skills\, expand our policy knowledge\, deepen our relationships\, and build our power across states and communities!  \nMore information
URL:https://texasaeyc.org/event/naeyc-public-policy-forum/
CATEGORIES:Advocacy Opportunities
END:VEVENT
END:VCALENDAR