BEGIN:VCALENDAR
VERSION:2.0
PRODID:-//TXAEYC - ECPv6.15.18//NONSGML v1.0//EN
CALSCALE:GREGORIAN
METHOD:PUBLISH
X-ORIGINAL-URL:https://texasaeyc.org
X-WR-CALDESC:Events for TXAEYC
REFRESH-INTERVAL;VALUE=DURATION:PT1H
X-Robots-Tag:noindex
X-PUBLISHED-TTL:PT1H
BEGIN:VTIMEZONE
TZID:America/Detroit
BEGIN:DAYLIGHT
TZOFFSETFROM:-0500
TZOFFSETTO:-0400
TZNAME:EDT
DTSTART:20220313T070000
END:DAYLIGHT
BEGIN:STANDARD
TZOFFSETFROM:-0400
TZOFFSETTO:-0500
TZNAME:EST
DTSTART:20221106T060000
END:STANDARD
BEGIN:DAYLIGHT
TZOFFSETFROM:-0500
TZOFFSETTO:-0400
TZNAME:EDT
DTSTART:20230312T070000
END:DAYLIGHT
BEGIN:STANDARD
TZOFFSETFROM:-0400
TZOFFSETTO:-0500
TZNAME:EST
DTSTART:20231105T060000
END:STANDARD
BEGIN:DAYLIGHT
TZOFFSETFROM:-0500
TZOFFSETTO:-0400
TZNAME:EDT
DTSTART:20240310T070000
END:DAYLIGHT
BEGIN:STANDARD
TZOFFSETFROM:-0400
TZOFFSETTO:-0500
TZNAME:EST
DTSTART:20241103T060000
END:STANDARD
END:VTIMEZONE
BEGIN:VEVENT
DTSTART;TZID=America/Detroit:20230819T090000
DTEND;TZID=America/Detroit:20230819T150000
DTSTAMP:20260424T055313
CREATED:20230605T173320Z
LAST-MODIFIED:20230605T173320Z
UID:10000051-1692435600-1692457200@texasaeyc.org
SUMMARY:Central Texas Chapter Presents Train the Trainer Courses - 2 Date Session
DESCRIPTION:Participants will explore the dimensions of presentation development and delivery as well as “all things trainer”! There are 2 sessions available to register for\, depending on your training needs. \nTo receive the required 15 hours needed for application into the TECPDS trainer registry\, you will need to register for BOTH of these sessions! \nSession 1:\nSaturday\, June 10\, 2023\nHilton Garden Inn\n1749 Scott Blvd. Temple\, TX 76504\n9:00 AM – 3:00 PM \nAND \nSession 2: \nSaturday\, August 19\, 2023\nHilton Garden Inn\n1749 Scott Blvd. Temple\, TX 76504\n9:00 AM – 4:00 PM \nRegistration must be received\nby Thursday\, June 8\, for both sessions. \nThis session is perfect for those registered trainers who just need TOT credit hours! (Please note that both training sessions will have required HOMEWORK in addition to the “in-class” participation to receive the entire hours!) \nThese training sessions are designed to:\n• provide participants with 8 or 15 hours of TOT (Training of Trainers) that will meet the requirements for the Texas Early Care Professional Development (TECPDS) Trainer Registry\n• equip participants with the principles and dynamics of planning\, delivering\, and evaluating effective presentations for adult learners\n• challenge participants to be creative\, engaging\, and dynamic in their role as a trainer \nRegister with Paula Barnes at 254-715-0291 or e-mail:\npaula.barnes@workforcesolutionsctx.com \n2023 TOT flyer  \n 
URL:https://texasaeyc.org/event/central-texas-chapter-presents-train-the-trainer-courses-2-date-session/2023-08-19/
LOCATION:Texas
CATEGORIES:Chapter Events,Training
END:VEVENT
BEGIN:VEVENT
DTSTART;TZID=America/Detroit:20230823T120000
DTEND;TZID=America/Detroit:20230823T123000
DTSTAMP:20260424T055313
CREATED:20230817T161154Z
LAST-MODIFIED:20230817T171502Z
UID:10000069-1692792000-1692793800@texasaeyc.org
SUMMARY:CDA FAQ Information Session
DESCRIPTION:Are  you or a staff member ready to take the CDA Assessment? A T.E.A.C.H. scholarship can help cover the cost of the CDA Assessment Fee! \nMeet with T.E.A.C.H. staff to learn how you can support a team member through the process as sponsoring employer OR learn about the CDA Assessment Fee application process to earn your CDA credential. \nEligibility for the CDA Assessment Fee Scholarship includes: \n\nApplicants must Be employed at least 30 hours per week at a\n\n\n\n\n\n\nLicensed child care center\,\nLicensed family child care home\, or\nRegistered family child care home\n\n\n\n\n\n\nHave a high school diploma or GED\nEarn $20 or less per hour\nBe a Texas resident\nCompleted the required 120 training hours in the CDA Core Competencies\,  professional portfolio and family questionnaires.\n\nRegister HERE \nHope to see you there!
URL:https://texasaeyc.org/event/cda-faq-information-session/
LOCATION:Online
CATEGORIES:Information Sessions
END:VEVENT
BEGIN:VEVENT
DTSTART;TZID=America/Detroit:20230828T183000
DTEND;TZID=America/Detroit:20230828T190000
DTSTAMP:20260424T055313
CREATED:20230817T161347Z
LAST-MODIFIED:20230817T171524Z
UID:10000070-1693247400-1693249200@texasaeyc.org
SUMMARY:CDA FAQ Information Session
DESCRIPTION:Are  you or a staff member ready to take the CDA Assessment? A T.E.A.C.H. scholarship can help cover the cost of the CDA Assessment Fee! \nMeet with T.E.A.C.H. staff to learn how you can support a team member through the process as sponsoring employer OR learn about the CDA Assessment Fee application process to earn your CDA credential. \nEligibility for the CDA Assessment Fee Scholarship includes: \n\nApplicants must Be employed at least 30 hours per week at a\n\n\n\n\n\n\nLicensed child care center\,\nLicensed family child care home\, or\nRegistered family child care home\n\n\n\n\n\n\nHave a high school diploma or GED\nEarn $20 or less per hour\nBe a Texas resident\nCompleted the required 120 training hours in the CDA Core Competencies\,  professional portfolio and family questionnaires.\n\nRegister HERE \nHope to see you there!
URL:https://texasaeyc.org/event/cda-faq-information-session-2/
LOCATION:Online
CATEGORIES:Information Sessions
END:VEVENT
END:VCALENDAR