BEGIN:VCALENDAR
VERSION:2.0
PRODID:-//TXAEYC - ECPv6.15.18//NONSGML v1.0//EN
CALSCALE:GREGORIAN
METHOD:PUBLISH
X-WR-CALNAME:TXAEYC
X-ORIGINAL-URL:https://texasaeyc.org
X-WR-CALDESC:Events for TXAEYC
REFRESH-INTERVAL;VALUE=DURATION:PT1H
X-Robots-Tag:noindex
X-PUBLISHED-TTL:PT1H
BEGIN:VTIMEZONE
TZID:America/Detroit
BEGIN:DAYLIGHT
TZOFFSETFROM:-0500
TZOFFSETTO:-0400
TZNAME:EDT
DTSTART:20220313T070000
END:DAYLIGHT
BEGIN:STANDARD
TZOFFSETFROM:-0400
TZOFFSETTO:-0500
TZNAME:EST
DTSTART:20221106T060000
END:STANDARD
BEGIN:DAYLIGHT
TZOFFSETFROM:-0500
TZOFFSETTO:-0400
TZNAME:EDT
DTSTART:20230312T070000
END:DAYLIGHT
BEGIN:STANDARD
TZOFFSETFROM:-0400
TZOFFSETTO:-0500
TZNAME:EST
DTSTART:20231105T060000
END:STANDARD
BEGIN:DAYLIGHT
TZOFFSETFROM:-0500
TZOFFSETTO:-0400
TZNAME:EDT
DTSTART:20240310T070000
END:DAYLIGHT
BEGIN:STANDARD
TZOFFSETFROM:-0400
TZOFFSETTO:-0500
TZNAME:EST
DTSTART:20241103T060000
END:STANDARD
END:VTIMEZONE
BEGIN:VEVENT
DTSTART;TZID=America/Detroit:20231003T123000
DTEND;TZID=America/Detroit:20231003T133000
DTSTAMP:20260424T004435
CREATED:20231003T151243Z
LAST-MODIFIED:20231003T151243Z
UID:10000090-1696336200-1696339800@texasaeyc.org
SUMMARY:Shared Services Alliance Information Session
DESCRIPTION:Want access to benefits for your staff? \nJoin us for one of our information sessions about TXAEYC’s Shared Services Alliance \nMeeting Link \nMeeting ID: 819 9427 6772
URL:https://texasaeyc.org/event/shared-services-alliance-information-session/
LOCATION:Online
CATEGORIES:Information Sessions
END:VEVENT
BEGIN:VEVENT
DTSTART;TZID=America/Detroit:20231005T123000
DTEND;TZID=America/Detroit:20231005T133000
DTSTAMP:20260424T004435
CREATED:20231003T151502Z
LAST-MODIFIED:20231003T151502Z
UID:10000091-1696509000-1696512600@texasaeyc.org
SUMMARY:Shared Services Alliance Information Session
DESCRIPTION:Want access to benefits for your staff? \nJoin us for one of our information sessions about TXAEYC’s Shared Services Alliance \nJoin Meeting \nMeeting ID: 835 6266 4522 \n 
URL:https://texasaeyc.org/event/shared-services-alliance-information-session-2/
LOCATION:Online
END:VEVENT
BEGIN:VEVENT
DTSTART;TZID=America/Detroit:20231007T080000
DTEND;TZID=America/Detroit:20231007T150000
DTSTAMP:20260424T004435
CREATED:20230919T211142Z
LAST-MODIFIED:20230919T211142Z
UID:10000089-1696665600-1696690800@texasaeyc.org
SUMMARY:Central Texas Chapter Presents Dynamic Environments for Young Children
DESCRIPTION:Receive 6 hours of training. \nMail in registration form and more information: Translated Flyer (1) \n 
URL:https://texasaeyc.org/event/central-texas-chapter-presents-dynamic-environments-for-young-children/
LOCATION:Killeen Civic and Conference Center\, 3601 S.W.S. Young Dr\, Killeen\, TX\, United States
CATEGORIES:Chapter Events,Training
END:VEVENT
BEGIN:VEVENT
DTSTART;TZID=America/Detroit:20231010T090000
DTEND;TZID=America/Detroit:20231010T100000
DTSTAMP:20260424T004435
CREATED:20231003T151959Z
LAST-MODIFIED:20231003T151959Z
UID:10000092-1696928400-1696932000@texasaeyc.org
SUMMARY:Shared Services Alliance Information Session
DESCRIPTION:Want access to benefits for your staff? \nJoin us for one of our information sessions about TXAEYC’s Shared Services Alliance \nJoin Meeting \nMeeting ID: 871 0775 6268
URL:https://texasaeyc.org/event/shared-services-alliance-information-session-3/
LOCATION:Online
CATEGORIES:Information Sessions
END:VEVENT
BEGIN:VEVENT
DTSTART;TZID=America/Detroit:20231010T123000
DTEND;TZID=America/Detroit:20231010T143000
DTSTAMP:20260424T004435
CREATED:20230818T162606Z
LAST-MODIFIED:20230818T162606Z
UID:10000074-1696941000-1696948200@texasaeyc.org
SUMMARY:Austin Chapter Meetings of the Accreditation Network
DESCRIPTION:The Accreditation Network is a registered NAEYC Accreditation Facilitation Project. We strive to inform\, educate\, support\, and advocate for quality early care and education through the process of NAEYC Accreditation. The Accreditation Network is open to all who are interested in improving the quality of their programs! Contact the Accreditation Network Chair\, Shannon Saldana at accreditation@austinchapter-txaeyc.org. \nMonthly Meetings 12:30-2:30 pm. Meetings will be virtual with the exception of the November meeting. \nMeeting invitations will be sent out the Friday before the meeting. Anyone interested will need to email accreditation@austinchapter-txaeyc.org to get on the mailing list. \nView the Full  Calendar and Flyer_23-24 (003) \n 
URL:https://texasaeyc.org/event/austin-chapter-meetings-of-the-accreditation-network/2023-10-10/
LOCATION:Texas
CATEGORIES:Advocacy Opportunities,Chapter Events,Information Sessions,Special Events
END:VEVENT
BEGIN:VEVENT
DTSTART;TZID=America/Detroit:20231011T140000
DTEND;TZID=America/Detroit:20231011T150000
DTSTAMP:20260424T004435
CREATED:20231003T152149Z
LAST-MODIFIED:20231003T152149Z
UID:10000093-1697032800-1697036400@texasaeyc.org
SUMMARY:Shared Services Alliance Information Session
DESCRIPTION:Want access to benefits for your staff? \nJoin us for one of our information sessions about TXAEYC’s Shared Services Alliance \nJoin Meeting \nMeeting ID: 869 4912 8272
URL:https://texasaeyc.org/event/shared-services-alliance-information-session-4/
LOCATION:Online
END:VEVENT
BEGIN:VEVENT
DTSTART;TZID=America/Detroit:20231012T123000
DTEND;TZID=America/Detroit:20231012T133000
DTSTAMP:20260424T004435
CREATED:20231003T152406Z
LAST-MODIFIED:20231003T152406Z
UID:10000094-1697113800-1697117400@texasaeyc.org
SUMMARY:Shared Services Alliance Information Session
DESCRIPTION:Want access to benefits for your staff? \nJoin us for one of our information sessions about TXAEYC’s Shared Services Alliance \nJoin Meeting \nMeeting ID: 846 8255 4527
URL:https://texasaeyc.org/event/shared-services-alliance-information-session-5/
LOCATION:Online
CATEGORIES:Information Sessions
END:VEVENT
BEGIN:VEVENT
DTSTART;TZID=America/Detroit:20231012T180000
DTEND;TZID=America/Detroit:20231012T193000
DTSTAMP:20260424T004435
CREATED:20230809T153639Z
LAST-MODIFIED:20230912T152557Z
UID:10000067-1697133600-1697139000@texasaeyc.org
SUMMARY:Austin Chapter TXAEYC Fall Event
DESCRIPTION:Austin Chapter Creative Reuse \nMore information here: Austin Chapter Austin Creative Reuse Social Event \nRegister HERE!  \n 
URL:https://texasaeyc.org/event/austin-chapter-creative-reuse/
LOCATION:Austin Creative ReUse\, 2005 Wheeless Lane\, Austin\, United States
CATEGORIES:Chapter Events,Training
END:VEVENT
BEGIN:VEVENT
DTSTART;TZID=America/Detroit:20231016T140000
DTEND;TZID=America/Detroit:20231016T150000
DTSTAMP:20260424T004435
CREATED:20231003T152537Z
LAST-MODIFIED:20231003T152537Z
UID:10000095-1697464800-1697468400@texasaeyc.org
SUMMARY:Shared Services Alliance Information Session
DESCRIPTION:Want access to benefits for your staff? \nJoin us for one of our information sessions about TXAEYC’s Shared Services Alliance \nJoin Meeting \nMeeting ID: 896 3690 0121
URL:https://texasaeyc.org/event/shared-services-alliance-information-session-6/
LOCATION:Online
CATEGORIES:Information Sessions
END:VEVENT
BEGIN:VEVENT
DTSTART;TZID=America/Detroit:20231017T123000
DTEND;TZID=America/Detroit:20231017T133000
DTSTAMP:20260424T004435
CREATED:20231003T152658Z
LAST-MODIFIED:20231003T152658Z
UID:10000096-1697545800-1697549400@texasaeyc.org
SUMMARY:Shared Services Alliance Information Session
DESCRIPTION:Want access to benefits for your staff? \nJoin us for one of our information sessions about TXAEYC’s Shared Services Alliance \nJoin Meeting \nMeeting ID: 892 3136 5511
URL:https://texasaeyc.org/event/shared-services-alliance-information-session-7/
LOCATION:Online
CATEGORIES:Information Sessions
END:VEVENT
BEGIN:VEVENT
DTSTART;TZID=America/Detroit:20231021T080000
DTEND;TZID=America/Detroit:20231021T150000
DTSTAMP:20260424T004435
CREATED:20230914T153431Z
LAST-MODIFIED:20230914T153431Z
UID:10000085-1697875200-1697900400@texasaeyc.org
SUMMARY:Pase Del Norte Chapter of TXAEYC Annual Conference Cooking Up Creativity
DESCRIPTION:Cooking Up Creativity – Recipes for Early Childhood Development Learning \nHands on Activities \nGuest Speaker \nLicensing \nVendors and Exhibitors \nClick to Learn More and Register Cooking up Creativity
URL:https://texasaeyc.org/event/pase-del-norte-chapter-of-txaeyc-annual-conference-cooking-up-creativity/
LOCATION:Multi Purpose Center\, 11670 Chito Samaniego\, El Paso\, TX\, 79936\, United States
CATEGORIES:Chapter Conference,Chapter Events,Training
END:VEVENT
BEGIN:VEVENT
DTSTART;TZID=America/Detroit:20231021T083000
DTEND;TZID=America/Detroit:20231021T120000
DTSTAMP:20260424T004435
CREATED:20230707T190849Z
LAST-MODIFIED:20230707T191332Z
UID:10000057-1697877000-1697889600@texasaeyc.org
SUMMARY:Denton and MSU Presents: Growing Leaders: Identifying\, Educating and Equipping our Team
DESCRIPTION:Join the Denton Chapter of TXAEYC and Midwestern State University for this professional development presentation on “Growing Leaders: Indentifying\, Educating\, and Equipping Our Team”\, presented by Beth Barnard. \nEarn 3.5 Training hours \nRegistration is Free \nEnjoy a Complimentary Continental Breakfast \nRegister HERE: \n 
URL:https://texasaeyc.org/event/denton-and-msu-presents-growing-leaders-identifying-educating-and-equipping-our-team/
LOCATION:MSU: Flower Mound\, 100 Parker Square Road\, Flower Mound\, TX\, 75028\, United States
CATEGORIES:Chapter Events,Training
END:VEVENT
END:VCALENDAR