BEGIN:VCALENDAR
VERSION:2.0
PRODID:-//TXAEYC - ECPv6.15.18//NONSGML v1.0//EN
CALSCALE:GREGORIAN
METHOD:PUBLISH
X-ORIGINAL-URL:https://texasaeyc.org
X-WR-CALDESC:Events for TXAEYC
REFRESH-INTERVAL;VALUE=DURATION:PT1H
X-Robots-Tag:noindex
X-PUBLISHED-TTL:PT1H
BEGIN:VTIMEZONE
TZID:America/Detroit
BEGIN:DAYLIGHT
TZOFFSETFROM:-0500
TZOFFSETTO:-0400
TZNAME:EDT
DTSTART:20220313T070000
END:DAYLIGHT
BEGIN:STANDARD
TZOFFSETFROM:-0400
TZOFFSETTO:-0500
TZNAME:EST
DTSTART:20221106T060000
END:STANDARD
BEGIN:DAYLIGHT
TZOFFSETFROM:-0500
TZOFFSETTO:-0400
TZNAME:EDT
DTSTART:20230312T070000
END:DAYLIGHT
BEGIN:STANDARD
TZOFFSETFROM:-0400
TZOFFSETTO:-0500
TZNAME:EST
DTSTART:20231105T060000
END:STANDARD
BEGIN:DAYLIGHT
TZOFFSETFROM:-0500
TZOFFSETTO:-0400
TZNAME:EDT
DTSTART:20240310T070000
END:DAYLIGHT
BEGIN:STANDARD
TZOFFSETFROM:-0400
TZOFFSETTO:-0500
TZNAME:EST
DTSTART:20241103T060000
END:STANDARD
END:VTIMEZONE
BEGIN:VEVENT
DTSTART;VALUE=DATE:20231102
DTEND;VALUE=DATE:20231105
DTSTAMP:20260423T231359
CREATED:20230411T155711Z
LAST-MODIFIED:20230425T142317Z
UID:10000020-1698883200-1699142399@texasaeyc.org
SUMMARY:2023 TXAEYC Annual Conference
DESCRIPTION:Join us for our 2023 Annual Confernece at the Kalahari Resort in Round Rock\, TX! \nRegistration will open in June 2023.
URL:https://texasaeyc.org/event/2023-txaeyc-annual-conference/
LOCATION:Kalahari Resort\, 3001 Kalahari Blvd\, Round Rock\, TX\, 78665\, United States
CATEGORIES:State Conference
END:VEVENT
BEGIN:VEVENT
DTSTART;TZID=America/Detroit:20231103T123000
DTEND;TZID=America/Detroit:20231103T143000
DTSTAMP:20260423T231359
CREATED:20230818T162606Z
LAST-MODIFIED:20230818T162606Z
UID:10000075-1699014600-1699021800@texasaeyc.org
SUMMARY:Austin Chapter Meetings of the Accreditation Network
DESCRIPTION:The Accreditation Network is a registered NAEYC Accreditation Facilitation Project. We strive to inform\, educate\, support\, and advocate for quality early care and education through the process of NAEYC Accreditation. The Accreditation Network is open to all who are interested in improving the quality of their programs! Contact the Accreditation Network Chair\, Shannon Saldana at accreditation@austinchapter-txaeyc.org. \nMonthly Meetings 12:30-2:30 pm. Meetings will be virtual with the exception of the November meeting. \nMeeting invitations will be sent out the Friday before the meeting. Anyone interested will need to email accreditation@austinchapter-txaeyc.org to get on the mailing list. \nView the Full  Calendar and Flyer_23-24 (003) \n 
URL:https://texasaeyc.org/event/austin-chapter-meetings-of-the-accreditation-network/2023-11-03/
LOCATION:Texas
CATEGORIES:Advocacy Opportunities,Chapter Events,Information Sessions,Special Events
END:VEVENT
END:VCALENDAR