BEGIN:VCALENDAR
VERSION:2.0
PRODID:-//TXAEYC - ECPv6.15.18//NONSGML v1.0//EN
CALSCALE:GREGORIAN
METHOD:PUBLISH
X-WR-CALNAME:TXAEYC
X-ORIGINAL-URL:https://texasaeyc.org
X-WR-CALDESC:Events for TXAEYC
REFRESH-INTERVAL;VALUE=DURATION:PT1H
X-Robots-Tag:noindex
X-PUBLISHED-TTL:PT1H
BEGIN:VTIMEZONE
TZID:America/Detroit
BEGIN:DAYLIGHT
TZOFFSETFROM:-0500
TZOFFSETTO:-0400
TZNAME:EDT
DTSTART:20230312T070000
END:DAYLIGHT
BEGIN:STANDARD
TZOFFSETFROM:-0400
TZOFFSETTO:-0500
TZNAME:EST
DTSTART:20231105T060000
END:STANDARD
BEGIN:DAYLIGHT
TZOFFSETFROM:-0500
TZOFFSETTO:-0400
TZNAME:EDT
DTSTART:20240310T070000
END:DAYLIGHT
BEGIN:STANDARD
TZOFFSETFROM:-0400
TZOFFSETTO:-0500
TZNAME:EST
DTSTART:20241103T060000
END:STANDARD
BEGIN:DAYLIGHT
TZOFFSETFROM:-0500
TZOFFSETTO:-0400
TZNAME:EDT
DTSTART:20250309T070000
END:DAYLIGHT
BEGIN:STANDARD
TZOFFSETFROM:-0400
TZOFFSETTO:-0500
TZNAME:EST
DTSTART:20251102T060000
END:STANDARD
END:VTIMEZONE
BEGIN:VEVENT
DTSTART;TZID=America/Detroit:20240305T123000
DTEND;TZID=America/Detroit:20240305T143000
DTSTAMP:20260423T162113
CREATED:20230818T162606Z
LAST-MODIFIED:20230818T162606Z
UID:10000078-1709641800-1709649000@texasaeyc.org
SUMMARY:Austin Chapter Meetings of the Accreditation Network
DESCRIPTION:The Accreditation Network is a registered NAEYC Accreditation Facilitation Project. We strive to inform\, educate\, support\, and advocate for quality early care and education through the process of NAEYC Accreditation. The Accreditation Network is open to all who are interested in improving the quality of their programs! Contact the Accreditation Network Chair\, Shannon Saldana at accreditation@austinchapter-txaeyc.org. \nMonthly Meetings 12:30-2:30 pm. Meetings will be virtual with the exception of the November meeting. \nMeeting invitations will be sent out the Friday before the meeting. Anyone interested will need to email accreditation@austinchapter-txaeyc.org to get on the mailing list. \nView the Full  Calendar and Flyer_23-24 (003) \n 
URL:https://texasaeyc.org/event/austin-chapter-meetings-of-the-accreditation-network/2024-03-05/
LOCATION:Texas
CATEGORIES:Advocacy Opportunities,Chapter Events,Information Sessions,Special Events
END:VEVENT
BEGIN:VEVENT
DTSTART;VALUE=DATE:20240307
DTEND;VALUE=DATE:20240310
DTSTAMP:20260423T162113
CREATED:20230420T152640Z
LAST-MODIFIED:20230814T170153Z
UID:10000025-1709769600-1710028799@texasaeyc.org
SUMMARY:Southern Early Childhood Association (SECA) 75th Annual Conference
DESCRIPTION:Save the date!  SECA 75: Celebrationg YOU!  75 years of Diversity\, Development\, and Dedication \nCrown Plaza Atlanta Perimeter – Georgia \nLearn more HERE.
URL:https://texasaeyc.org/event/southern-early-childhood-association-seca-75th-annual-conference/
LOCATION:Texas
CATEGORIES:Conference,National Conferences
END:VEVENT
BEGIN:VEVENT
DTSTART;TZID=America/Detroit:20240322T080000
DTEND;TZID=America/Detroit:20240323T160000
DTSTAMP:20260423T162113
CREATED:20230714T153820Z
LAST-MODIFIED:20240123T195530Z
UID:10000060-1711094400-1711209600@texasaeyc.org
SUMMARY:Brazos Valley's Annual Early Childhood Conference
DESCRIPTION:The Brazos Valley chapter of TXAEYC together with Texas A&M University and Blinn College invite you to register for the 2024 Texas Early Childhood Summit and The Texas Play and Development Conference\n\n\n\nLocation:  Day 1 Thomas Hildebrand Equine Center\n\n                  3240 F and B Rd\n                  College Station\, TX 77843\n                  Day 2 Blinn College Bryan Campus\n                  2423 Blinn Blvd.\n                  Bryan\, TX 77802\n\n\nRegister HERE. \n 
URL:https://texasaeyc.org/event/brazos-valleys-annual-early-childhood-conference/
LOCATION:Texas A&M\, Blinn Campus
CATEGORIES:Chapter Conference,Chapter Events
END:VEVENT
BEGIN:VEVENT
DTSTART;TZID=America/Detroit:20240323T100000
DTEND;TZID=America/Detroit:20240323T120000
DTSTAMP:20260423T162113
CREATED:20240212T193616Z
LAST-MODIFIED:20240307T184511Z
UID:10000123-1711188000-1711195200@texasaeyc.org
SUMMARY:San Antonio Chapter Mixer and Professional Development
DESCRIPTION:Join the San Antonio Chapter of TXAEYC for this mixer and FREE training event presented by Anna O’Connor. Mingle and connect with other early childhood professionals.\nLimited space is available.		\n					\n				Register here
URL:https://texasaeyc.org/event/san-antonio-chapter-mixer-and-professional-development/
LOCATION:Walzem YMCA\, 5538 Walzem Rd\, Windcrest\, Texas\, 78218
CATEGORIES:Chapter Events
END:VEVENT
BEGIN:VEVENT
DTSTART;VALUE=DATE:20240326
DTEND;VALUE=DATE:20240328
DTSTAMP:20260423T162113
CREATED:20231116T204050Z
LAST-MODIFIED:20231207T181201Z
UID:10000107-1711411200-1711583999@texasaeyc.org
SUMMARY:Accreditation Bootcamp
DESCRIPTION:Are you interested in achieving NAEYC Accreditation? \nWe have the training for you! \n\n\n\n\n\n\n\n\n\n\n\n\n\n\n\nTXAEYC is launching a two-day NAEYC Accreditation Bootcamp which will guide early learning program leaders through understanding the accreditation standards and process. This new offering will support early learning programs across the state in increasing their quality so more young children have access to quality programs! Participants will leave with action steps to jumpstart their accreditation success. This is appropriate for those starting their journey or those needing a refresher.\n\n\n\n\n\n\n\nRegister HERE. \n 
URL:https://texasaeyc.org/event/accreditation-bootcamp-2/
LOCATION:Convene @ Pegasus Park\, 3000 Pegasus Park Dr.\, Ste. 800\, Dallas\, TX\, 75235\, United States
CATEGORIES:Training
END:VEVENT
END:VCALENDAR