BEGIN:VCALENDAR
VERSION:2.0
PRODID:-//TXAEYC - ECPv6.15.18//NONSGML v1.0//EN
CALSCALE:GREGORIAN
METHOD:PUBLISH
X-ORIGINAL-URL:https://texasaeyc.org
X-WR-CALDESC:Events for TXAEYC
REFRESH-INTERVAL;VALUE=DURATION:PT1H
X-Robots-Tag:noindex
X-PUBLISHED-TTL:PT1H
BEGIN:VTIMEZONE
TZID:America/Detroit
BEGIN:DAYLIGHT
TZOFFSETFROM:-0500
TZOFFSETTO:-0400
TZNAME:EDT
DTSTART:20230312T070000
END:DAYLIGHT
BEGIN:STANDARD
TZOFFSETFROM:-0400
TZOFFSETTO:-0500
TZNAME:EST
DTSTART:20231105T060000
END:STANDARD
BEGIN:DAYLIGHT
TZOFFSETFROM:-0500
TZOFFSETTO:-0400
TZNAME:EDT
DTSTART:20240310T070000
END:DAYLIGHT
BEGIN:STANDARD
TZOFFSETFROM:-0400
TZOFFSETTO:-0500
TZNAME:EST
DTSTART:20241103T060000
END:STANDARD
BEGIN:DAYLIGHT
TZOFFSETFROM:-0500
TZOFFSETTO:-0400
TZNAME:EDT
DTSTART:20250309T070000
END:DAYLIGHT
BEGIN:STANDARD
TZOFFSETFROM:-0400
TZOFFSETTO:-0500
TZNAME:EST
DTSTART:20251102T060000
END:STANDARD
END:VTIMEZONE
BEGIN:VEVENT
DTSTART;TZID=America/Detroit:20240405T120000
DTEND;TZID=America/Detroit:20240406T130000
DTSTAMP:20260423T142443
CREATED:20231113T192803Z
LAST-MODIFIED:20240208T200757Z
UID:10000099-1712318400-1712408400@texasaeyc.org
SUMMARY:Training of Trainers\, Houston TX
DESCRIPTION:Your Journey as a Trainer \nJoin us for two days of interactive sessions that will support participants as they begin the journey to becoming a trainer of their colleagues\, peers and other early childhood professionals.  We will gather basic information on what it means to become a trainer in the field of Early Childhood and how to start the process. We’ll take a look at state licensing requirements and quality standards for trainers and national accreditation opportunities.  Participants will be writing learning objectives and preparing instructional plans to help them advance through their journey. There will be interactive review of developing learning objectives and how training content should relate. Participants will discover various modalities to present activities and share their own knowledge\, experience and expertise. Participants will discuss and identify methodologies and techniques for effective training presentations. \nFor Intermediate/Advanced participants who are seeking to renew their trainer certification\, we’ll embark further on the adventure into incorporating relevant adult learning principles and how a trainer can add additional strategies in their design and delivery of training content. These sessions will enable the trainer to explore additional information and activities to effectively share with their participants. Trainers will observe and relate various training presentation skills that are designed to engage learners to make their individual trainings more enjoyable\, interesting and the content memorable. \nPresenters:     Sue Hancock\, BAAS\, CCHC \nMarlyn Kramer\, M.Ed\, CCHC \nThe training will take place from 12:00-4:00pm on day 1 and 9:00am-1:00pm on day 2. \nLunch will NOT be provided. \nRegistration rates are as follows: \n-$285 for members of TXAEYC\, membership number is required. \n-$305 for non-members \n		\n					\n				Register here
URL:https://texasaeyc.org/event/training-of-trainers-houston-tx/
LOCATION:TX
CATEGORIES:Training
END:VEVENT
BEGIN:VEVENT
DTSTART;VALUE=DATE:20240406
DTEND;VALUE=DATE:20240413
DTSTAMP:20260423T142443
CREATED:20240123T212510Z
LAST-MODIFIED:20240307T154738Z
UID:10000112-1712361600-1712966399@texasaeyc.org
SUMMARY:Week of the Young Child
DESCRIPTION:Mark your calendars for Week of the Young Child 2024! From April 6th to 12th\, we’ll be honoring our youngest learners\, their families\, educators\, and the importance of early childhood education! \nWeek of the Young Child – TXAEYC (texasaeyc.org) \n 
URL:https://texasaeyc.org/event/week-of-the-young-child-2/
LOCATION:TX
CATEGORIES:Special Events
END:VEVENT
BEGIN:VEVENT
DTSTART;TZID=America/Detroit:20240406T100000
DTEND;TZID=America/Detroit:20240406T130000
DTSTAMP:20260423T142443
CREATED:20240212T194403Z
LAST-MODIFIED:20240212T194403Z
UID:10000124-1712397600-1712408400@texasaeyc.org
SUMMARY:San Antonio Chapter Presents Kids Day in the Park
DESCRIPTION:Open to the community. All are welcome. No registration needed.
URL:https://texasaeyc.org/event/san-antonio-chapter-presents-kids-day-in-the-park/
LOCATION:San Pedro Springs Park\, 2200 N. Flores\, San Antonio\, Texas\, 78212
CATEGORIES:Chapter Events
END:VEVENT
BEGIN:VEVENT
DTSTART;TZID=America/Detroit:20240412T080000
DTEND;TZID=America/Detroit:20240412T160000
DTSTAMP:20260423T142443
CREATED:20240313T182718Z
LAST-MODIFIED:20240313T182718Z
UID:10000127-1712908800-1712937600@texasaeyc.org
SUMMARY:San Antonio 2024 Leadership Symposium
DESCRIPTION:Join us for our Early Childhood Leadership Symposium and Breakfast of Champions. The day will include networking\, learning\, and empowerment for you! \nRegistration fee is $50 and includes lunch. \n		\n					\n				Register here
URL:https://texasaeyc.org/event/san-antonio-2024-leadership-symposium/
LOCATION:KLRN\, 501 Boroadway\, San Antonio\, Texas\, 78215
CATEGORIES:Chapter Conference,Chapter Events
END:VEVENT
BEGIN:VEVENT
DTSTART;TZID=America/Detroit:20240412T191500
DTEND;TZID=America/Detroit:20240412T214500
DTSTAMP:20260423T142443
CREATED:20240304T202840Z
LAST-MODIFIED:20240308T160409Z
UID:10000125-1712949300-1712958300@texasaeyc.org
SUMMARY:TXAEYC Night at the Round Rock Express
DESCRIPTION:Celebrate Family Friday and the end of the Week of Young Child with us at the Round Rock Express! Invite your friends\, colleagues\, and the families you serve to enjoy a night at the ball park with TXAEYC. Let’s cheer on the Texas early childhood field as they Round Rock Express face off against the Oklahoma City Baseball Club. \nTXAEYC is the Express Community Spotlight for the evening’s game. A small portion of each ticket sales will go to support the programs of TXAEYC. \nEnter the Code: TXAEYC in the promotion code box during check out. \nPurchase Tickets\n\n		\n\n			\n									\n													\n																\n																																		\n															\n												\n							\n																\n									\n																					\n																					TXAEYC Night Flyer																				\n																			\n								\n								\n								\n							\n														\n																	\n																		Download
URL:https://texasaeyc.org/event/txaeyc-night-at-the-round-rock-express/
LOCATION:3400 E Palm Valley Blvd\, Round Rock\, TX 78665\, 3400 E Palm Valley Blvd\, Round Rock\, TX\, 78665\, United States
CATEGORIES:Special Events
END:VEVENT
BEGIN:VEVENT
DTSTART;TZID=America/Detroit:20240413T083000
DTEND;TZID=America/Detroit:20240413T150000
DTSTAMP:20260423T142443
CREATED:20240123T214322Z
LAST-MODIFIED:20240123T214322Z
UID:10000114-1712997000-1713020400@texasaeyc.org
SUMMARY:Sam Houston Chapter Conference
DESCRIPTION:Sam Houston Chapter Presents: Reigniting Creativity in Early Childhood – SHAEYC is hosting its Annual Early Childhood Conference\, Reigniting Creativity in Early Childhood! Presenters will provide sessions that cover topics on divergent thinking and creativity. Attendees will be able to receive up to 3 training hours for their participation. Lunch will be provided! \nRegister HERE! \n  \n  \n 
URL:https://texasaeyc.org/event/sam-houston-chapter-conference/
LOCATION:The Woodlands Center\, 3380 College Park Dr.\, The Woodlands\, TX\, 77384
CATEGORIES:Chapter Conference,Chapter Events
END:VEVENT
BEGIN:VEVENT
DTSTART;TZID=America/Detroit:20240416T123000
DTEND;TZID=America/Detroit:20240416T143000
DTSTAMP:20260423T142443
CREATED:20230818T162606Z
LAST-MODIFIED:20230818T162606Z
UID:10000079-1713270600-1713277800@texasaeyc.org
SUMMARY:Austin Chapter Meetings of the Accreditation Network
DESCRIPTION:The Accreditation Network is a registered NAEYC Accreditation Facilitation Project. We strive to inform\, educate\, support\, and advocate for quality early care and education through the process of NAEYC Accreditation. The Accreditation Network is open to all who are interested in improving the quality of their programs! Contact the Accreditation Network Chair\, Shannon Saldana at accreditation@austinchapter-txaeyc.org. \nMonthly Meetings 12:30-2:30 pm. Meetings will be virtual with the exception of the November meeting. \nMeeting invitations will be sent out the Friday before the meeting. Anyone interested will need to email accreditation@austinchapter-txaeyc.org to get on the mailing list. \nView the Full  Calendar and Flyer_23-24 (003) \n 
URL:https://texasaeyc.org/event/austin-chapter-meetings-of-the-accreditation-network/2024-04-16/
LOCATION:TX
CATEGORIES:Advocacy Opportunities,Chapter Events,Information Sessions,Special Events
END:VEVENT
BEGIN:VEVENT
DTSTART;TZID=America/Detroit:20240418T090000
DTEND;TZID=America/Detroit:20240419T160000
DTSTAMP:20260423T142443
CREATED:20240109T165849Z
LAST-MODIFIED:20240304T193829Z
UID:10000109-1713430800-1713542400@texasaeyc.org
SUMMARY:The First Big Retreat
DESCRIPTION:Calling all Texas Early Childhood Leaders! \nJoin 275 Texas early childhood leaders for an intimate and relaxing leadership retreat at the Horseshoe Bay Resort located in the heart of Central Texas along Lake LBJ! \nThis event provides administrators and leaders of early learning programs an opportunity to sharpen their leadership skills\, deepen connections with fellow early childhood leaders\, and enjoy some much needed R&R. \nRetreat highlights include: \n\nLeadership sessions facilitated by Ann McClain Terrell\, author of Graceful Leadership in Early Childhood Education\nBreakout sessions with topics suggested by attendees\nSelf-care activities (yoga\, pickle ball\, put-put golf\, and more!)\nDinner at the Horseshoe Bay Yacht Club\n\nRegistration now open! \n		\n					\n				Learn More
URL:https://texasaeyc.org/event/the-first-big-retreat/
LOCATION:Horseshoe Bay Resort\, 200 Hi Circle North\, Horseshoe Bay\, Texas\, 78657
CATEGORIES:Conference,Special Events,State Conference
END:VEVENT
BEGIN:VEVENT
DTSTART;TZID=America/Detroit:20240420T083000
DTEND;TZID=America/Detroit:20240420T130000
DTSTAMP:20260423T142443
CREATED:20240307T152434Z
LAST-MODIFIED:20240307T155415Z
UID:10000126-1713601800-1713618000@texasaeyc.org
SUMMARY:Southmost Chapter Spring Conference
DESCRIPTION:SPRING CONFERENCE- 4 HOURS CREDIT \n  \nWHEN:           Saturday\, April 20\, 2024   8:30-1:00 \nTOPICS TO BE PRESENTED:  Different sessions for Infant and Toddlers\, Preschool and After-Schoolers\, Directors\, some sessions in Spanish-Topic: Guidance\, Movement\, Literacy and more! \nEXTRA:         Lots of door prizes\, and vendors during breaks \n  \nLOCATION:    Sabal Hall\, UTRGV Brownsville Campus\, (across from the parking lot) \n2000 W. University Blvd\, Brownsville\, TX 78520 \n  \nCOST:                         \n\nSouthmost Chapter members- $10 –You must pre-register\nNon-members-$25\nStudents –$15 (include copy of college ID-email me the image if you are registering on-line)\n\n  \nRegistration ENDS on\, April 18\, 2024 \nNO REGISTRATIONS ON DAY OF TRAINING \nMASKS ARE ENCOURAGED. DUE TO INSURANCE\, NO CHILDREN. \nQuestions-956-346-2897 or mehollmann@sbcglobal.net \n***REGISTER ON LINE with a credit card; https://www.eventbrite.com/e/southmost-chapter-of-txaeyc-spring-conference-4-hours-credit-tickets-850935499987 \nOr register my mail with check or money order: Spring April 20 2024 conference flyer
URL:https://texasaeyc.org/event/southmost-chapter-spring-conference/
LOCATION:Sabal Hall\, UTRGV Brownsville Campus\, 2000 W. University Blvd.\, Brownsville\, Texas\, 78520
CATEGORIES:Chapter Conference,Chapter Events,Training
END:VEVENT
END:VCALENDAR