BEGIN:VCALENDAR
VERSION:2.0
PRODID:-//TXAEYC - ECPv6.15.18//NONSGML v1.0//EN
CALSCALE:GREGORIAN
METHOD:PUBLISH
X-WR-CALNAME:TXAEYC
X-ORIGINAL-URL:https://texasaeyc.org
X-WR-CALDESC:Events for TXAEYC
REFRESH-INTERVAL;VALUE=DURATION:PT1H
X-Robots-Tag:noindex
X-PUBLISHED-TTL:PT1H
BEGIN:VTIMEZONE
TZID:America/Detroit
BEGIN:DAYLIGHT
TZOFFSETFROM:-0500
TZOFFSETTO:-0400
TZNAME:EDT
DTSTART:20240310T070000
END:DAYLIGHT
BEGIN:STANDARD
TZOFFSETFROM:-0400
TZOFFSETTO:-0500
TZNAME:EST
DTSTART:20241103T060000
END:STANDARD
BEGIN:DAYLIGHT
TZOFFSETFROM:-0500
TZOFFSETTO:-0400
TZNAME:EDT
DTSTART:20250309T070000
END:DAYLIGHT
BEGIN:STANDARD
TZOFFSETFROM:-0400
TZOFFSETTO:-0500
TZNAME:EST
DTSTART:20251102T060000
END:STANDARD
BEGIN:DAYLIGHT
TZOFFSETFROM:-0500
TZOFFSETTO:-0400
TZNAME:EDT
DTSTART:20260308T070000
END:DAYLIGHT
BEGIN:STANDARD
TZOFFSETFROM:-0400
TZOFFSETTO:-0500
TZNAME:EST
DTSTART:20261101T060000
END:STANDARD
END:VTIMEZONE
BEGIN:VEVENT
DTSTART;TZID=America/Detroit:20250211T123000
DTEND;TZID=America/Detroit:20250211T143000
DTSTAMP:20260422T191415
CREATED:20240917T165225Z
LAST-MODIFIED:20240917T165225Z
UID:10000159-1739277000-1739284200@texasaeyc.org
SUMMARY:Accreditation Network Meeting
DESCRIPTION:Topic: Austin Chapter Accreditation Network\nTime: This is a recurring meeting Meet anytime \nJoin Zoom Meeting\nhttps://austincc.zoom.us/j/99275369088?pwd=Z0R0Wi9UdXRPemkvMG1waWk1bjNJUT09 \nMeeting ID: 992 7536 9088\nPasscode: 843082 \n— \nOne tap mobile\n+13462487799\,\,99275369088#\,\,\,\,*843082# US (Houston)\n+16694449171\,\,99275369088#\,\,\,\,*843082# US \n— \nDial by your location\n• +1 346 248 7799 US (Houston)\n• +1 669 444 9171 US\n• +1 669 900 6833 US (San Jose)\n• +1 719 359 4580 US\n• +1 253 205 0468 US\n• +1 253 215 8782 US (Tacoma)\n• +1 507 473 4847 US\n• +1 564 217 2000 US\n• +1 646 931 3860 US\n• +1 689 278 1000 US\n• +1 929 436 2866 US (New York)\n• +1 301 715 8592 US (Washington DC)\n• +1 305 224 1968 US\n• +1 309 205 3325 US\n• +1 312 626 6799 US (Chicago)\n• +1 360 209 5623 US\n• +1 386 347 5053 US\n• 833 548 0276 US Toll-free\n• 833 548 0282 US Toll-free\n• 833 928 4608 US Toll-free\n• 833 928 4609 US Toll-free\n• 833 928 4610 US Toll-free\n• 877 853 5257 US Toll-free\n• 888 475 4499 US Toll-free \nMeeting ID: 992 7536 9088\nPasscode: 843082
URL:https://texasaeyc.org/event/accreditation-network-meeting-4/
LOCATION:TX
CATEGORIES:Chapter Events
ATTACH;FMTTYPE=application/pdf:https://texasaeyc.org/wp-content/uploads/2024/09/24-25-Accreditaton-Network-Calendar-1.pdf
END:VEVENT
BEGIN:VEVENT
DTSTART;TZID=America/Detroit:20250215T080000
DTEND;TZID=America/Detroit:20250215T160000
DTSTAMP:20260422T191415
CREATED:20241118T193533Z
LAST-MODIFIED:20241118T193533Z
UID:10000171-1739606400-1739635200@texasaeyc.org
SUMMARY:Light the Way: Sixth Annual Coastal Bend Early Childhood Conference
DESCRIPTION:Join us for a lively day of learning and fun! \n  \nEarly Bird Registration – $50 before February 1st \nLate Registration – $60 after February 1st \nECE Students – $40 \n  \n		\n					\n				Register Here
URL:https://texasaeyc.org/event/light-the-way-sixth-annual-coastal-bend-early-childhood-conference/
LOCATION:Rockport-Fulton High School\, 1801 Omohundro\, Rockport\, TX\, 78382
ATTACH;FMTTYPE=image/jpeg:https://texasaeyc.org/wp-content/uploads/2024/11/CCAC-Conference-Flyer-2025-2.jpg
END:VEVENT
BEGIN:VEVENT
DTSTART;TZID=America/Detroit:20250225T080000
DTEND;TZID=America/Detroit:20250226T170000
DTSTAMP:20260422T191415
CREATED:20250131T173238Z
LAST-MODIFIED:20250131T173238Z
UID:10000173-1740470400-1740589200@texasaeyc.org
SUMMARY:Director Credential Training
DESCRIPTION:Earn your Director Credential through completing 50 hours of child development and business/management training with TXAEYC. Spots typically fill up fast so register today! \nDiscover our Director Credential Program\, a comprehensive 6 to 8-week training course tailored for Texas childcare directors. Our hybrid program blends in-person sessions with flexible self-paced learning\, ensuring convenience and accessibility for everyone. Following NAEYC Standards\, the curriculum provides top-tier education and leadership skills\, representing the gold standard in early childhood education. Upon completion\, you’ll earn a Child Care Directors Credential from the largest early childhood professional association in Texas\, empowering you to excel as a Child Care Director across Texas.. As the state affiliate of NAEYC\, SECA\, and ACCESS\, TXAEYC is dedicated to promoting excellence and continuous improvement in early childhood education. \nThis training will include 2 days of in person learning in addition to 6 to 8 weeks of self paced learning assignments. The course instructor\, Dawn Leach\, will lead the in-person classroom instruction and hold weekly office hours to support learning. With over 40 years of experience\, Dawn has a B.S in Child Development and is currently completing a Master’s in Child Development. She served as a director of early childhood programs for 30 years and has taught Administration of Childcare Programs as an adjunct professor at Austin Community College for 12 years. \nTo participate in the class\, you must be at least 21 years of age\, have a high school diploma or GED\, and have at least two years of experience in a licensed child care program. \nWhen\nTuesday\, February 25\, 2025 9:00 AM – 5:00 PM CDT \nWednesday\, February 26\, 2025  9:00AM – 5:00 PM CDT \nWhere\nTXAEYC (in the Austin Telco Bldg.) \n11149 Research Blvd. \nSuite 260 \nAustin\, TX 78759 \n\n		\n					\n				Register here
URL:https://texasaeyc.org/event/director-credential-training-4/
LOCATION:TXAEYC\, 11149 Research Blvd\, Suite 260\, Austin\, TX\, 78759\, United States
CATEGORIES:Training
END:VEVENT
END:VCALENDAR