BEGIN:VCALENDAR
VERSION:2.0
PRODID:-//TXAEYC - ECPv6.15.18//NONSGML v1.0//EN
CALSCALE:GREGORIAN
METHOD:PUBLISH
X-WR-CALNAME:TXAEYC
X-ORIGINAL-URL:https://texasaeyc.org
X-WR-CALDESC:Events for TXAEYC
REFRESH-INTERVAL;VALUE=DURATION:PT1H
X-Robots-Tag:noindex
X-PUBLISHED-TTL:PT1H
BEGIN:VTIMEZONE
TZID:America/Detroit
BEGIN:DAYLIGHT
TZOFFSETFROM:-0500
TZOFFSETTO:-0400
TZNAME:EDT
DTSTART:20240310T070000
END:DAYLIGHT
BEGIN:STANDARD
TZOFFSETFROM:-0400
TZOFFSETTO:-0500
TZNAME:EST
DTSTART:20241103T060000
END:STANDARD
BEGIN:DAYLIGHT
TZOFFSETFROM:-0500
TZOFFSETTO:-0400
TZNAME:EDT
DTSTART:20250309T070000
END:DAYLIGHT
BEGIN:STANDARD
TZOFFSETFROM:-0400
TZOFFSETTO:-0500
TZNAME:EST
DTSTART:20251102T060000
END:STANDARD
BEGIN:DAYLIGHT
TZOFFSETFROM:-0500
TZOFFSETTO:-0400
TZNAME:EDT
DTSTART:20260308T070000
END:DAYLIGHT
BEGIN:STANDARD
TZOFFSETFROM:-0400
TZOFFSETTO:-0500
TZNAME:EST
DTSTART:20261101T060000
END:STANDARD
END:VTIMEZONE
BEGIN:VEVENT
DTSTART;TZID=America/Detroit:20250301T084500
DTEND;TZID=America/Detroit:20250301T110000
DTSTAMP:20260422T170733
CREATED:20241107T152345Z
LAST-MODIFIED:20241107T152655Z
UID:10000168-1740818700-1740826800@texasaeyc.org
SUMMARY:Denton Chapter Virtual Event: ECE Classroom Management
DESCRIPTION:In this virtual session\, participants will learn about young learners’ developmental differences from early childhood to elementary school. The presenter will share specific strategies for engaging learners at different developmental stages and situations. \nParticipants will walk away with an action plan to apply in their classrooms. \n		\n					\n				Register Here!\n			\n				\n		\n  \n 
URL:https://texasaeyc.org/event/denton-chapter-virtual-event-ece-classroom-management/
LOCATION:TX
ATTACH;FMTTYPE=application/pdf:https://texasaeyc.org/wp-content/uploads/2024/11/March-1-1.pdf
END:VEVENT
BEGIN:VEVENT
DTSTART;TZID=America/Detroit:20250301T090000
DTEND;TZID=America/Detroit:20250301T150000
DTSTAMP:20260422T170733
CREATED:20241107T153049Z
LAST-MODIFIED:20250106T171948Z
UID:10000169-1740819600-1740841200@texasaeyc.org
SUMMARY:Austin Chapter Annual Conference
DESCRIPTION:Saturday\, March 1\, 2025 9:00 am to 3:00 pm CST\nLocation:\nRegion 13 Educational Service Center\n5701 Springdale Rd\nAustin\, TX\n\n\n		\n					\n				Register here
URL:https://texasaeyc.org/event/austin-chapter-annual-conference/
LOCATION:Region 13 ESC\, 5701 Springdale Rd\, Austin\, TX\, 78723
END:VEVENT
BEGIN:VEVENT
DTSTART;TZID=America/Detroit:20250311T123000
DTEND;TZID=America/Detroit:20250311T143000
DTSTAMP:20260422T170733
CREATED:20240917T165242Z
LAST-MODIFIED:20240917T165242Z
UID:10000160-1741696200-1741703400@texasaeyc.org
SUMMARY:Accreditation Network Meeting
DESCRIPTION:Topic: Austin Chapter Accreditation Network\nTime: This is a recurring meeting Meet anytime \nJoin Zoom Meeting\nhttps://austincc.zoom.us/j/99275369088?pwd=Z0R0Wi9UdXRPemkvMG1waWk1bjNJUT09 \nMeeting ID: 992 7536 9088\nPasscode: 843082 \n— \nOne tap mobile\n+13462487799\,\,99275369088#\,\,\,\,*843082# US (Houston)\n+16694449171\,\,99275369088#\,\,\,\,*843082# US \n— \nDial by your location\n• +1 346 248 7799 US (Houston)\n• +1 669 444 9171 US\n• +1 669 900 6833 US (San Jose)\n• +1 719 359 4580 US\n• +1 253 205 0468 US\n• +1 253 215 8782 US (Tacoma)\n• +1 507 473 4847 US\n• +1 564 217 2000 US\n• +1 646 931 3860 US\n• +1 689 278 1000 US\n• +1 929 436 2866 US (New York)\n• +1 301 715 8592 US (Washington DC)\n• +1 305 224 1968 US\n• +1 309 205 3325 US\n• +1 312 626 6799 US (Chicago)\n• +1 360 209 5623 US\n• +1 386 347 5053 US\n• 833 548 0276 US Toll-free\n• 833 548 0282 US Toll-free\n• 833 928 4608 US Toll-free\n• 833 928 4609 US Toll-free\n• 833 928 4610 US Toll-free\n• 877 853 5257 US Toll-free\n• 888 475 4499 US Toll-free \nMeeting ID: 992 7536 9088\nPasscode: 843082
URL:https://texasaeyc.org/event/accreditation-network-meeting-5/
LOCATION:TX
CATEGORIES:Chapter Events
ATTACH;FMTTYPE=application/pdf:https://texasaeyc.org/wp-content/uploads/2024/09/24-25-Accreditaton-Network-Calendar-1.pdf
END:VEVENT
BEGIN:VEVENT
DTSTART;VALUE=DATE:20250320
DTEND;VALUE=DATE:20250323
DTSTAMP:20260422T170733
CREATED:20230420T152945Z
LAST-MODIFIED:20230814T170128Z
UID:10000026-1742428800-1742687999@texasaeyc.org
SUMMARY:Southern Early Childhood Association (SECA) Annual Conference
DESCRIPTION:Save the date!  2025 Conference \nThe Royal Sonesta Houston Galleria in Houston\, TX \nMore information coming soon.
URL:https://texasaeyc.org/event/southern-early-childhood-association-seca-annual-conference/
LOCATION:TX
CATEGORIES:Conference,National Conferences
END:VEVENT
BEGIN:VEVENT
DTSTART;TZID=America/Detroit:20250322T080000
DTEND;TZID=America/Detroit:20250322T170000
DTSTAMP:20260422T170733
CREATED:20241107T153309Z
LAST-MODIFIED:20250131T173425Z
UID:10000170-1742630400-1742662800@texasaeyc.org
SUMMARY:Brazos Valley Chapter Annual Play and Development Conference
DESCRIPTION:Brazos Valley Chapter Conference – Texas Play and Development\n\n\n\n\n\n\nEvent Name – Texas Play and Development Conference \nDate – March 22\, 2025 \nLocation – Blinn College Bryan Campus \nAddress – 2423 Blinn Blvd\, Bryan TX 77802 \nDescription – Join us for a fabulous day of research-based workshops for early childhood educators \nKeynote Speaker – Mr. Ty\, famously known as “The Childcare Whisperer” is a visionary leader and renowned expert in the field of early childhood education (ECE) \nFree Parking \nBreakfast and Lunch will be provided \nPricing \n\n$40 TXAEYC/NAEYC or SECA Member\n$60 Non-Member\n$20 Students\n$45 Group Rate (3 or more). Email sheila@texasaeyc.org for assistance with group registration.\n\nVendors \n\n$50 Community/Non-Profit (5 table cap)\n$500 Commercial (15 table cap)  Please email aggieamy@tamu.edu for assisttance with commercial exhibitor registrations.\nSet up 7am Saturday March 22		\n					\n				Register here
URL:https://texasaeyc.org/event/brazos-valley-chapter-annual-play-and-development-conference/
LOCATION:TX
END:VEVENT
BEGIN:VEVENT
DTSTART;TZID=America/Detroit:20250327T090000
DTEND;TZID=America/Detroit:20250328T170000
DTSTAMP:20260422T170733
CREATED:20240826T162231Z
LAST-MODIFIED:20241202T183848Z
UID:10000150-1743066000-1743181200@texasaeyc.org
SUMMARY:TXAEYC Leadership Retreat
DESCRIPTION:Dates and Times: 10:00am on March 27\, 2025 – 2:00pm on March 28\, 2025  \nVenue: Horseshoe Bay Report\, Horseshoe Bay\, TX   \nRegistration Rates:  \n\n$590 Members \n$625 Non-members \n\nEvent Description   \nThe BIG Retreat is back for its second year! This event\, designed specifically for Texas Early Childhood Leaders\, is the perfect opportunity for leaders to create connections\, reflect on their vision\, and recharge for the work ahead. This year’s BIG Retreat will provide a unique opportunity for child care and school district leaders to come together to build early learning partnerships – maximizing resources\, increasing access to high-quality early learning\, and strengthening communities.   \nEvent Highlights   \n\nRegistration includes 4 meals  \nLunch and dinner on March 27 \nBreakfast and lunch on March 28 \nNetworking opportunities to form early learning partnerships  \nSelf-care activities  \n\nThe BIG Retreat will provide a unique opportunity for you to learn about early learning partnership options and network with potential partners. The relaxed environment of the retreat sets the stage for authentic conversation\, unlocking new possibilities\, and building genuine relationships.   \nSession topics will include:  \n\nExploring early learning partnership options  \nUnderstanding the funding landscape for early learning  \nPanels of successful partnerships across the state  \nLeadership centered on children and families  \nTaking risks to support children and families  \nAnd much more!  \n\n		\n					\n				Register here
URL:https://texasaeyc.org/event/txaeyc-leadership-retreat/
LOCATION:Horseshoe Bay Resort\, 200 Hi Circle North\, Horseshoe Bay\, Texas\, 78657
CATEGORIES:Conference,Special Events,State Conference
END:VEVENT
END:VCALENDAR