BEGIN:VCALENDAR
VERSION:2.0
PRODID:-//TXAEYC - ECPv6.15.18//NONSGML v1.0//EN
CALSCALE:GREGORIAN
METHOD:PUBLISH
X-ORIGINAL-URL:https://texasaeyc.org
X-WR-CALDESC:Events for TXAEYC
REFRESH-INTERVAL;VALUE=DURATION:PT1H
X-Robots-Tag:noindex
X-PUBLISHED-TTL:PT1H
BEGIN:VTIMEZONE
TZID:America/Detroit
BEGIN:DAYLIGHT
TZOFFSETFROM:-0500
TZOFFSETTO:-0400
TZNAME:EDT
DTSTART:20250309T070000
END:DAYLIGHT
BEGIN:STANDARD
TZOFFSETFROM:-0400
TZOFFSETTO:-0500
TZNAME:EST
DTSTART:20251102T060000
END:STANDARD
BEGIN:DAYLIGHT
TZOFFSETFROM:-0500
TZOFFSETTO:-0400
TZNAME:EDT
DTSTART:20260308T070000
END:DAYLIGHT
BEGIN:STANDARD
TZOFFSETFROM:-0400
TZOFFSETTO:-0500
TZNAME:EST
DTSTART:20261101T060000
END:STANDARD
BEGIN:DAYLIGHT
TZOFFSETFROM:-0500
TZOFFSETTO:-0400
TZNAME:EDT
DTSTART:20270314T070000
END:DAYLIGHT
BEGIN:STANDARD
TZOFFSETFROM:-0400
TZOFFSETTO:-0500
TZNAME:EST
DTSTART:20271107T060000
END:STANDARD
END:VTIMEZONE
BEGIN:VEVENT
DTSTART;TZID=America/Detroit:20260127T090000
DTEND;TZID=America/Detroit:20260127T160000
DTSTAMP:20260421T154806
CREATED:20251218T021743Z
LAST-MODIFIED:20251218T021958Z
UID:10000191-1769504400-1769529600@texasaeyc.org
SUMMARY:TXAEYC Director Credential Training
DESCRIPTION:Earn your Director Credential through completing 60 hours of child development and business/management training with Texas Association for the Education of Young Children. This training consists of self-paced reading\, videos\, interactive assignments and in-person training.\n\n\n\n\n\n\n \nRegister here: https://lp.constantcontactpages.com/ev/reg/zfk4nsz\n\n\n\n 
URL:https://texasaeyc.org/event/txaeyc-director-credential-training/
LOCATION:Workforce Solutions Capital Area 9001 N IH35\, Ste 110C\, Austin\, TX 78753\, 9001 N IH35\, Ste 110C\, Austin\, TX\, 78753\, United States
END:VEVENT
END:VCALENDAR